BEGIN:VCALENDAR
VERSION:2.0
PRODID:-//ChamberMaster//Event Calendar 2.0//EN
METHOD:PUBLISH
X-PUBLISHED-TTL:P3D
REFRESH-INTERVAL:P3D
CALSCALE:GREGORIAN
BEGIN:VEVENT
DTSTART:20260611T210000Z
DTEND:20260611T221500Z
X-MICROSOFT-CDO-ALLDAYEVENT:FALSE
SUMMARY:Business After Hours with Byrd Landscaping & 5 County Construction
DESCRIPTION:Business After Hours with Byrd Landscaping & Mowing and 5 County Contruction\n\nJoin the Zebulon Chamber of Commerce for our bimonthly Business After Hours\, a relaxed and engaging networking event designed to help Chamber members connect\, build relationships\, and strengthen our local business and civic community. Hosted by a Chamber member organization\, each event offers a unique opportunity to showcase a local business while enjoying meaningful conversation in a casual setting.\n\nAttendees will have the chance to meet fellow Chamber members\, welcome and introduce new members\, and hear brief "commercials" highlighting the services and offerings of participating businesses.\n\nBusiness After Hours are held bimonthly on the second Thursday of the month from 5:00 PM to 6:15 PM. Locations vary by host. All Chamber members and invited guests are encouraged to attend and make new connections beyond the workday.
X-ALT-DESC;FMTTYPE=text/html:<p><span style="font-size:16px\;"><span style="font-family:arial\;"><b>Business After Hours with <a href="https://business.zebulonchamber.org/list/member/byrd-landscaping-mowing-service-inc-2302"><span style="color:#0000FF\;">Byrd Landscaping &amp\; Mowing</span></a><font color="#0000ff"> </font>and<font color="#0000ff"> </font><a href="https://business.zebulonchamber.org/list/member/5-county-construction-zebulon-2292"><span style="color:#0000FF\;">5 County Contruction</span></a></b></span></span></p>\n\n<p><span style="font-size:16px\;"><span style="font-family:arial\;">Join the Zebulon Chamber of Commerce for our bimonthly <strong>Business After Hours</strong>\, a relaxed and engaging networking event designed to help Chamber members connect\, build relationships\, and strengthen our local business and civic community. Hosted by a Chamber member organization\, each event offers a unique opportunity to showcase a local business while enjoying meaningful conversation in a casual setting.</span></span></p>\n\n<p><span style="font-size:16px\;"><span style="font-family:arial\;">Attendees will have the chance to meet fellow Chamber members\, welcome and introduce new members\, and hear brief &ldquo\;commercials&rdquo\; highlighting the services and offerings of participating businesses.</span></span></p>\n\n<p><span style="font-size:16px\;"><span style="font-family:arial\;"><strong>Business After Hours</strong> are held bimonthly on the <strong>second Thursday of the month from 5:00 PM to 6:15 PM</strong>. Locations vary by host. All Chamber members and invited guests are encouraged to attend and make new connections beyond the workday.</span></span><br />\n<br />\n&nbsp\;</p>\n
LOCATION:Zebulon Chamber of Commerce
UID:e.1168.9224
SEQUENCE:3
DTSTAMP:20260420T094254Z
URL:http://business.zebulonchamber.org/events/details/business-after-hours-with-byrd-landscaping-5-county-construction-9224
END:VEVENT

END:VCALENDAR
