BEGIN:VCALENDAR
VERSION:2.0
PRODID:-//ChamberMaster//Event Calendar 2.0//EN
METHOD:PUBLISH
X-PUBLISHED-TTL:P3D
REFRESH-INTERVAL:P3D
CALSCALE:GREGORIAN
BEGIN:VEVENT
DTSTART:20191201T190000Z
DTEND:20191201T203000Z
X-MICROSOFT-CDO-ALLDAYEVENT:FALSE
SUMMARY:2019 Zebulon Christmas Parade
DESCRIPTION:Please join us to celebrate our wonderful community at the Annual Zebulon Christmas Parade.\n\n\n\n2019 Pre-Parade Participant Packet
X-ALT-DESC;FMTTYPE=text/html:Please join us to celebrate our wonderful community at the Annual Zebulon Christmas Parade.<br />\n<br />\n<a href="https://zebulonchamber.sharepoint.com/:w:/g/EQ0napwlFv1CkeWgMS3v6n0BxGna9DXuXnWp3DQ2KEn2-Q?e=aIsjwe">2019 Pre-Parade Participant Packet&nbsp\;</a>
LOCATION:The Parade will begin at the Zebulon Community Center\, travel through downtown on Arendell Avenue\, then left on West Gannon Street to end at J&M Chevrolet.
UID:e.1168.5914
SEQUENCE:3
DTSTAMP:20260424T211336Z
URL:https://business.zebulonchamber.org/events/details/2019-zebulon-christmas-parade-5914
END:VEVENT

END:VCALENDAR
