BEGIN:VCALENDAR
VERSION:2.0
PRODID:-//ChamberMaster//Event Calendar 2.0//EN
METHOD:PUBLISH
X-PUBLISHED-TTL:P3D
REFRESH-INTERVAL:P3D
CALSCALE:GREGORIAN
BEGIN:VEVENT
DTSTART:20231005T200000Z
DTEND:20231005T210000Z
X-MICROSOFT-CDO-ALLDAYEVENT:FALSE
SUMMARY:2023-24 Eastern Wake Business Alliance Kickoff Meeting for 2023
DESCRIPTION:The Eastern Wake Business Alliance invites you to .\n\n2023-24 EWBA \n\nKickoff Meeting for 2023\n \n\nWe are looking for local businesses to partner with Zebulon GT Magnet Middle & East Wake Magnet High School! \n\nCould your business help us and provide guest speakers\, site tours\, job shadowing experiences\, internships?\n\nIf so\, we need you !\n\n \n\nDate: Thursday Oct. 5\, 2023\n\nTime: 4:00-5:00pm\n\nWhere: Zebulon GT Magnet School Media Center\n\n \n\nThe EWBA meets 4 times a year to help plan and implement activities to get our local middle and high school students' career\, college or military ready \n\nby the end of 12th grade!  For more information see here!\n\n \n\nCareer Development Coordinators \n\nBarnanne Creech - Zebulon GT Magnet Middle (bwcreech@wcpss.net)\n\nKatie Coble - East Wake Magnet High (kcoble@wcpss.net)\n\n \n\nPlease complete link:   https://tinyurl.com/EWBA2022 \n\n \n\nIn compliance with federal law\, Wake County Public School System administers all education programs\, employment activities and admissions without discrimination against any person on the basis of gender\, race\, color\, religion\, national origin\, age or disability.
X-ALT-DESC;FMTTYPE=text/html:<div style="text-align: center\;"><span style="font-family:arial\;"><strong><span style="color:black\;"><span style="font-size:18.0pt\;">The Eastern Wake Business Alliance invites you to&hellip\;.</span></span></strong><br />\n<strong><span style="color:black\;"><span style="font-size:24.0pt\;">2023-24 EWBA&nbsp\;</span></span></strong><br />\n<strong><span style="color:black\;"><span style="font-size:24.0pt\;">Kickoff Meeting for 2023</span></span></strong></span></div>\n&nbsp\;<br />\n<span style="font-size:14px\;"><span style="font-family:arial\;"><span style="color:black\;">We are looking for local businesses to partner with&nbsp\;</span><span style="color:black\;">Zebulon GT Magnet Middle &amp\; East Wake Magnet High School!&nbsp\;</span><br />\n<span style="color:black\;">Could your business help us and provide&nbsp\;</span><span style="color:black\;">guest speakers\, site tours\, job shadowing experiences\, internships?</span><br />\n<span style="color:black\;">If so\, we need you !</span><br />\n&nbsp\;<br />\n<strong><span style="color:black\;">Date:</span></strong><span style="color:black\;">&nbsp\;Thursday Oct. 5\, 2023</span></span></span><br />\n<strong style="font-family: arial\; font-size: 14px\;"><span style="color: black\;">Time:&nbsp\;</span></strong><span style="font-size:14px\;"><span style="font-family:arial\;"><span style="color:black\;">4:00-5:00pm</span><br />\n<strong><span style="color:black\;">Where:</span></strong><span style="color:black\;">&nbsp\;Zebulon GT Magnet School Media Center</span><br />\n&nbsp\;<br />\n<span style="color:black\;">The EWBA meets 4 times a year to help plan and implement activities to get our local middle and high school students&#39\; career\, college or military ready&nbsp\;</span><br />\n<span style="color:black\;">by the end of 12th grade!&nbsp\; For more information see </span><span style="color:black\;"><a href="https://zgtmmscdc.weebly.com/east-wake-business-alliance.html"><span style="color:#1155CC\;"><span style="text-decoration-skip-ink:none\;">here!</span></span></a></span><br />\n&nbsp\;<br />\n<span style="color:black\;"><strong>Career Development Coordinators&nbsp\;</strong></span><br />\n<span style="color:black\;">Barnanne Creech - Zebulon GT Magnet Middle (<a href="mailto:bwcreech@wcpss.net">bwcreech@wcpss.net</a>)</span><br />\n<span style="color:black\;">Katie Coble - East Wake Magnet High (<a href="mailto:kcoble@wcpss.net">kcoble@wcpss.net</a>)</span><br />\n&nbsp\;<br />\n<strong><span style="color:black\;">Please complete link: &nbsp\; </span></strong><span style="color:black\;"><a href="https://tinyurl.com/EWBA2022"><strong><span style="color:#1155CC\;"><span style="text-decoration-skip-ink:none\;">https://tinyurl.com/EWBA2022</span></span></strong></a></span>&nbsp\;<br />\n&nbsp\;<br />\n<span style="color:black\;">In compliance with federal law\, Wake County Public School System administers all education programs\, employment activities and admissions without discrimination against any person on the basis of gender\, race\, color\, religion\, national origin\, age or disability.&nbsp\;</span></span></span>
LOCATION:
UID:e.1168.7643
SEQUENCE:3
DTSTAMP:20260422T052744Z
URL:https://business.zebulonchamber.org/events/details/2023-24-eastern-wake-business-alliance-kickoff-meeting-for-2023-7643
END:VEVENT

END:VCALENDAR
