BEGIN:VCALENDAR
VERSION:2.0
PRODID:-//ChamberMaster//Event Calendar 2.0//EN
METHOD:PUBLISH
X-PUBLISHED-TTL:P3D
REFRESH-INTERVAL:P3D
CALSCALE:GREGORIAN
BEGIN:VEVENT
DTSTART:20261208T220000Z
DTEND:20261208T231500Z
X-MICROSOFT-CDO-ALLDAYEVENT:FALSE
SUMMARY:Annual Zebulon Chamber Member Christmas Party
DESCRIPTION:Mark your calendars! Details closer to the date.
X-ALT-DESC;FMTTYPE=text/html:Mark your calendars! Details closer to the date.
LOCATION:
UID:e.1168.9227
SEQUENCE:3
DTSTAMP:20260421T204942Z
URL:https://business.zebulonchamber.org/events/details/annual-zebulon-chamber-member-christmas-party-9227
END:VEVENT

END:VCALENDAR
