BEGIN:VCALENDAR
VERSION:2.0
PRODID:-//ChamberMaster//Event Calendar 2.0//EN
METHOD:PUBLISH
X-PUBLISHED-TTL:P3D
REFRESH-INTERVAL:P3D
CALSCALE:GREGORIAN
BEGIN:VEVENT
DTSTART:20230911T130000Z
DTEND:20230911T180000Z
X-MICROSOFT-CDO-ALLDAYEVENT:FALSE
SUMMARY:Blood Drive at the Zebulon Community Center
DESCRIPTION:Blood Drive\n\nDate: Monday\, September 11th\n\nAge: 16 & Up\n\nTime: 9:00 AM   2:00 PM\n\nLocation: Zebulon Community Center\n\n\n\nRight now\, there are kids\, neighbors\, mothers\, fathers\, daughters\, and sons in your community who need a lifesaving blood transfusion. You could be their chance for another day. One donation can help save 3 lives. That one donation could be you. To make an appointment to donate\, please go to thebloodconnection.org.
X-ALT-DESC;FMTTYPE=text/html:<span style="color:rgb(81\, 81\, 81)\; font-family:open sans\,helvetica neue\,helvetica\,arial\,sans-serif\; font-size:14px">Blood Drive</span><br />\n<span style="color:rgb(81\, 81\, 81)\; font-family:open sans\,helvetica neue\,helvetica\,arial\,sans-serif\; font-size:14px">Date: Monday\, September 11th</span><br />\n<span style="color:rgb(81\, 81\, 81)\; font-family:open sans\,helvetica neue\,helvetica\,arial\,sans-serif\; font-size:14px">Age: 16 &amp\; Up</span><br />\n<span style="color:rgb(81\, 81\, 81)\; font-family:open sans\,helvetica neue\,helvetica\,arial\,sans-serif\; font-size:14px">Time: 9:00 AM &ndash\; 2:00 PM</span><br />\n<span style="color:rgb(81\, 81\, 81)\; font-family:open sans\,helvetica neue\,helvetica\,arial\,sans-serif\; font-size:14px">Location: Zebulon Community Center</span><br />\n<br />\n<span style="color:rgb(81\, 81\, 81)\; font-family:open sans\,helvetica neue\,helvetica\,arial\,sans-serif\; font-size:14px">Right now\, there are kids\, neighbors\, mothers\, fathers\, daughters\, and sons in your community who need a lifesaving blood transfusion. You could be their chance for another day. One donation can help save 3 lives. That one donation could be you. To make an appointment to donate\, please go to thebloodconnection.org.</span>
LOCATION:Zebulon Community Center
UID:e.1168.7580
SEQUENCE:3
DTSTAMP:20260422T052632Z
URL:https://business.zebulonchamber.org/events/details/blood-drive-at-the-zebulon-community-center-7580
END:VEVENT

END:VCALENDAR
