BEGIN:VCALENDAR
VERSION:2.0
PRODID:-//ChamberMaster//Event Calendar 2.0//EN
METHOD:PUBLISH
X-PUBLISHED-TTL:P3D
REFRESH-INTERVAL:P3D
CALSCALE:GREGORIAN
BEGIN:VEVENT
DTSTART:20220912T130000Z
DTEND:20220912T180000Z
X-MICROSOFT-CDO-ALLDAYEVENT:FALSE
SUMMARY:Blood Drive-Zebulon Community Center September 12
DESCRIPTION:Blood Drive: \n\n	$20 eGift card from The Blood Connection for all blood donors.\n	Date: Monday\, September 12th\n	Time: 9:00 AM - 2:00 PM\n	Location: Zebulon Community Center Parking Lot\n	Registration Link: https://donate.thebloodconnection.org/donor/schedules/drive_schedule/188140
X-ALT-DESC;FMTTYPE=text/html:<strong><u><span style="color:black"><span style="font-family:calibri\,sans-serif"><span style="font-size:12.0pt">Blood Drive: </span></span></span></u></strong>\n<ul>\n	<li><span style="color:black"><span style="font-size:12.0pt">$20 eGift card from The Blood Connection for all blood donors.</span></span></li>\n	<li><strong><span style="color:black"><span style="font-family:calibri\,sans-serif"><span style="font-size:12.0pt">Date: Monday\, September 12<sup>th</sup></span></span></span></strong></li>\n	<li><strong><span style="color:black"><span style="font-family:calibri\,sans-serif"><span style="font-size:12.0pt">Time: 9:00 AM - 2:00 PM</span></span></span></strong></li>\n	<li><strong><span style="color:black"><span style="font-family:calibri\,sans-serif"><span style="font-size:12.0pt">Location: Zebulon Community Center Parking Lot</span></span></span></strong></li>\n	<li><span style="font-size:12.0pt">Registration Link: <span style="color:#393939"><a href="https://linkprotect.cudasvc.com/url?a=https%3a%2f%2fdonate.thebloodconnection.org%2fdonor%2fschedules%2fdrive_schedule%2f188140&amp\;c=E\,1\,_cRle-lp1s-OvLxWlJZmr_xk4zZ9f90BWS67snf4GsVUm9Z3krzupblPx1Hv9318RlwPZ8Gsq-xyDzW72RU8WqMYl7UhJw4EvsB7pJRBBaWCno3ESP6g&amp\;typo=1"><span style="color:#0563C1">https://donate.thebloodconnection.org/donor/schedules/drive_schedule/188140</span></a></span></span></li>\n</ul>\n
LOCATION:
UID:e.1168.7123
SEQUENCE:3
DTSTAMP:20260424T101651Z
URL:https://business.zebulonchamber.org/events/details/blood-drive-zebulon-community-center-september-12-7123
END:VEVENT

END:VCALENDAR
