BEGIN:VCALENDAR
VERSION:2.0
PRODID:-//ChamberMaster//Event Calendar 2.0//EN
METHOD:PUBLISH
X-PUBLISHED-TTL:P3D
REFRESH-INTERVAL:P3D
CALSCALE:GREGORIAN
BEGIN:VEVENT
DTSTART:20260327T223000Z
DTEND:20260328T020000Z
X-MICROSOFT-CDO-ALLDAYEVENT:FALSE
SUMMARY:Boardwalk Bash: Zebulon Chamber Gala 2026
DESCRIPTION:Boardwalk Bash\n\nZebulon Chamber Gala 2026\n\nPresented by United Community Bank\n\n\n\nStep onto the boardwalk and join us for an unforgettable evening of entertainment\, celebration\, and community connection at the Zebulon Chamber's signature annual gala! This year's Boardwalk Bash brings the charm and nostalgia of a classic beach boardwalk experience to Eagle Hall for a night filled with music\, laughter\, and recognition.\n\nEnjoy a festive evening featuring:\n\n  Live Entertainment by The Seaside Band\n\n  Shag Dancing and interactive boardwalk-inspired activities\n\n  Silent Auction showcasing exclusive items and experiences from local businesses\n\n  Delectable Hors d'oeuvres served throughout the evening\n\n  Special Recognition Ceremony\, including the presentation of the William E. Parrish Citizen of the Year Award and Excellence in Business Honors\n\n  Door Prizes with exciting gifts from our generous sponsors\n\nWhether you're celebrating with colleagues\, entertaining clients\, or enjoying a night out with friends\, Boardwalk Bash promises a festive atmosphere and meaningful moments that highlight the very best of our business community.\n\nDate: Friday\, March 27\, 2026\n\nTime: 6:30 PM   10:00 PM\n\nLocation: Eagle Hall at East Wake Academy\n\nAttire: Beach Formal\n\n \n\nSponsorship opportunities are available -- View Here. Use the Registration Link to the right to secure yours!\n\n\n\nJoin us as we celebrate the people and businesses that make Zebulon great!
X-ALT-DESC;FMTTYPE=text/html:<div style="text-align: center\;">\n<p style="text-align: left\;"><strong><span style="font-size:16px\;"><span style="font-family:arial\;"><span style="font-size:18px\;">Boardwalk Bash</span><br />\n<em>Zebulon Chamber Gala 2026<br />\nPresented by <a href="https://business.zebulonchamber.org/list/member/united-community-bank-93"><span style="color:#0000FF\;">United Community Bank</span></a></em></span></span></strong><br />\n<br />\n<span style="font-family: arial\; font-size: 16px\;">Step onto the boardwalk and join us for an unforgettable evening of entertainment\, celebration\, and community connection at the Zebulon Chamber&rsquo\;s signature annual gala! This year&rsquo\;s </span><strong style="font-family: arial\; font-size: 16px\;">Boardwalk Bash</strong><span style="font-family: arial\; font-size: 16px\;"> brings the charm and nostalgia of a classic beach boardwalk experience to Eagle Hall for a night filled with music\, laughter\, and recognition.</span></p>\n\n<p style="text-align: left\;"><span style="font-size:16px\;"><span style="font-family:arial\;">Enjoy a festive evening featuring:</span></span></p>\n\n<p style="text-align: left\;"><span style="font-size:16px\;"><span style="font-family:arial\;">&#127927\; <strong>Live Entertainment</strong> by The Seaside Band<br />\n&#128131\; <strong>Shag Dancing</strong> and interactive boardwalk-inspired activities<br />\n&#127942\; <strong>Silent Auction</strong> showcasing exclusive items and experiences from local businesses<br />\n&#129346\; <strong>Delectable&nbsp\;Hors d&rsquo\;oeuvres</strong> served throughout the evening<br />\n&#127775\; <strong>Special Recognition Ceremony</strong>\, including the presentation of the <em>William E. Parrish Citizen of the Year Award</em> and Excellence in Business Honors<br />\n&#127873\; <strong>Door Prizes</strong> with exciting gifts from our generous sponsors</span></span></p>\n\n<p style="text-align: left\;"><span style="font-size:16px\;"><span style="font-family:arial\;">Whether you&rsquo\;re celebrating with colleagues\, entertaining clients\, or enjoying a night out with friends\, Boardwalk Bash promises a festive atmosphere and meaningful moments that highlight the very best of our business community.</span></span></p>\n\n<p style="text-align: left\;"><span style="font-size:16px\;"><span style="font-family:arial\;"><strong>Date:</strong> Friday\, March 27\, 2026<br />\n<strong>Time:</strong> 6:30 PM &ndash\; 10:00 PM<br />\n<strong>Location:</strong> Eagle Hall at East Wake Academy<br />\n<strong>Attire:</strong> Beach Formal</span></span><br />\n&nbsp\;</p>\n\n<p style="text-align: left\;"><span style="font-size:16px\;"><span style="font-family:arial\;"><strong>Sponsorship opportunities are available -- <a href="https://business.zebulonchamber.org/news/details/sponsorship-opportunities_boardwalk-bash-2026"><span style="color:#0000FF\;">View Here</span></a>. Use the Registration Link to the right to secure yours!</strong><br />\n<br />\nJoin us as we celebrate the people and businesses that make Zebulon great!</span></span></p>\n</div>\n
LOCATION:Eagle Hall East Wake Academy
UID:e.1168.9246
SEQUENCE:3
DTSTAMP:20260420T113007Z
URL:https://business.zebulonchamber.org/events/details/boardwalk-bash-zebulon-chamber-gala-2026-9246
END:VEVENT

END:VCALENDAR
