BEGIN:VCALENDAR
VERSION:2.0
PRODID:-//ChamberMaster//Event Calendar 2.0//EN
METHOD:PUBLISH
X-PUBLISHED-TTL:P3D
REFRESH-INTERVAL:P3D
CALSCALE:GREGORIAN
BEGIN:VEVENT
DTSTART:20241207T130000Z
DTEND:20241207T160000Z
X-MICROSOFT-CDO-ALLDAYEVENT:FALSE
SUMMARY:Breakfast with Santa Zebulon Shrine Club
DESCRIPTION:Come on out to the Zebulon Shrine Club for a Pancake Breakfast with Santa! \n\nPancakes\, Sausage\, OJ\, Milk and Coffee
X-ALT-DESC;FMTTYPE=text/html:Come on out to the Zebulon Shrine Club for a Pancake Breakfast with Santa!&nbsp\;<br />\nPancakes\, Sausage\, OJ\, Milk and Coffee
LOCATION:1201 West Gannon Ave\, Zebulon NC 27597
UID:e.1168.8524
SEQUENCE:3
DTSTAMP:20260421T090024Z
URL:https://business.zebulonchamber.org/events/details/breakfast-with-santa-zebulon-shrine-club-8524
END:VEVENT

END:VCALENDAR
