BEGIN:VCALENDAR
VERSION:2.0
PRODID:-//ChamberMaster//Event Calendar 2.0//EN
METHOD:PUBLISH
X-PUBLISHED-TTL:P3D
REFRESH-INTERVAL:P3D
CALSCALE:GREGORIAN
BEGIN:VEVENT
DTSTART:20220908T203000Z
DTEND:20220908T220000Z
X-MICROSOFT-CDO-ALLDAYEVENT:FALSE
SUMMARY:Business After Hours
DESCRIPTION:Kick off Fall with the new season of Business After Hours. After the summer break\, drop in\, catch up\, and reconnect with other Zebulon Chamber members at our host\, Shepherd's Care Medical Clinic.\n\nNote\, Business After Hours has a new time: 4:30 PM to 6:00 PM.
X-ALT-DESC;FMTTYPE=text/html:<p><span style="font-family: arial\; font-size: 14px\;">Kick off Fall with the new season of&nbsp\;Business After Hours. After the summer break\, drop in\, catch up\, and reconnect with other Zebulon Chamber members at our host\, Shepherd&#39\;s Care Medical Clinic.</span><br />\n<span style="font-size:14px\;"><span style="font-family:arial\;">Note\, Business After Hours has a new time: 4:30 PM to 6:00 PM.</span></span></p>\n
LOCATION:Shepherd's Care Medical Clinic 1303 Water Plant Rd. Zebulon\, NC
UID:e.1168.6921
SEQUENCE:3
DTSTAMP:20260423T000732Z
URL:https://business.zebulonchamber.org/events/details/business-after-hours-6921
END:VEVENT

END:VCALENDAR
