BEGIN:VCALENDAR
VERSION:2.0
PRODID:-//ChamberMaster//Event Calendar 2.0//EN
METHOD:PUBLISH
X-PUBLISHED-TTL:P3D
REFRESH-INTERVAL:P3D
CALSCALE:GREGORIAN
BEGIN:VEVENT
DTSTART:20250109T220000Z
DTEND:20250109T233000Z
X-MICROSOFT-CDO-ALLDAYEVENT:FALSE
SUMMARY:Business After Hours @ Absolute Chevrolet
DESCRIPTION:A Fresh Start to 2025: Join Us for Zebulon Chamber Business After Hours Hosted by Absolute Chevrolet \n\n\n\nThe new year has just begun\, and it's time to keep the celebration going! Start 2025 strong by connecting with new friends and old at Zebulon's first Business After Hours of the year. Absolute Chevrolet\, one of the area's oldest Chevrolet dealerships and a cherished Zebulon institution\, invites you to see what's new. Meet their new team and hear about their exciting plans for the year ahead!\n\n\n\n  Thursday\, January 9\, 2025\n\n  5:00 PM - 6:30 PM\n\n  606 W Gannon Ave\, Zebulon\, NC\n\n \n  Event Highlights:\n\n\n	New Beginnings: Get to know Absolute Chevrolet's new staff and their vision for this historic dealership.\n	Exciting Door Prizes:\n	\n		(2x) Free Oil Change + Tire Rotations\n		(2x) Custom-Ordered WeatherTech Floor Mat\n	\n	\n\n\n  Savor Local Favorites:\nEnjoy McLean's famous mini country ham biscuits and BBQ meatballs\, a perfect way to toast the new year!\n\nThis festive gathering is your chance to strengthen connections\, foster new relationships\, and celebrate the opportunities 2025 holds for our community.\n\n \n  Start 2025 right! See you this Thursday at Absolute Chevrolet!
X-ALT-DESC;FMTTYPE=text/html:<div style="text-align: center\;">\n<div style="text-align: left\;"><span style="font-size:16px\;"><span style="font-family:arial\;"><strong>&#127881\; A Fresh Start to 2025: Join Us for Zebulon Chamber Business After Hours Hosted by Absolute Chevrolet&#127881\;</strong></span></span><br />\n<br />\n<span style="background-color:#ffffff\;"><span style="font-size:16px\;"><span style="font-family:arial\;"><span style="color:#333333\;">The new year has just begun\, and it&rsquo\;s time to keep the celebration going! Start 2025 strong by connecting with&nbsp\;</span></span></span></span><strong style="color:rgb(51\, 51\, 51)\;font-family:arial\;font-size:16px\;">new friends and old</strong><span style="background-color:#ffffff\;"><span style="font-size:16px\;"><span style="font-family:arial\;"><span style="color:#333333\;">&nbsp\;at Zebulon&rsquo\;s&nbsp\;</span></span></span></span><strong style="color:rgb(51\, 51\, 51)\;font-family:arial\;font-size:16px\;">first Business After Hours of the year.&nbsp\;</strong><strong style="color:rgb(51\, 51\, 51)\;font-family:arial\;font-size:16px\;">Absolute Chevrolet</strong><span style="background-color:#ffffff\;"><span style="font-size:16px\;"><span style="font-family:arial\;"><span style="color:#333333\;">\, one of the area&#39\;s oldest Chevrolet dealerships and a cherished Zebulon institution\, invites you to see what&rsquo\;s new. Meet their&nbsp\;</span></span></span></span><strong style="color:rgb(51\, 51\, 51)\;font-family:arial\;font-size:16px\;">new team</strong><span style="background-color:#ffffff\;"><span style="font-size:16px\;"><span style="font-family:arial\;"><span style="color:#333333\;">&nbsp\;and hear about their exciting plans for the year ahead!</span></span></span></span><br />\n<br />\n<span style="font-size:16px\;"><span style="font-family:arial\;"><strong>&#128467\; Thursday\, January 9\, 2025</strong><br />\n<strong>&#9200\; 5:00 PM - 6:30 PM</strong><br />\n<strong>&#128205\; 606 W Gannon Ave\, Zebulon\, NC</strong></span></span><br />\n&nbsp\;\n<h3><span style="font-size:16px\;"><span style="font-family:arial\;"><strong>&#127775\; Event Highlights:</strong></span></span></h3>\n\n<ul>\n	<li><span style="font-size:16px\;"><span style="font-family:arial\;"><strong>New Beginnings:</strong> Get to know Absolute Chevrolet&#39\;s <strong>new staff</strong> and their vision for this historic dealership.</span></span></li>\n	<li><span style="font-size:16px\;"><span style="font-family:arial\;"><strong>Exciting Door Prizes:</strong></span></span>\n	<ul>\n		<li><span style="font-size:16px\;"><span style="font-family:arial\;">(2x) <strong>Free Oil Change + Tire Rotations</strong></span></span></li>\n		<li><span style="font-size:16px\;"><span style="font-family:arial\;">(2x) <strong>Custom-Ordered WeatherTech Floor Mat</strong></span></span></li>\n	</ul>\n	</li>\n</ul>\n\n<h3><span style="font-size:16px\;"><span style="font-family:arial\;"><strong>&#127860\; Savor Local Favorites:</strong></span></span></h3>\n<span style="font-size:16px\;"><span style="font-family:arial\;">Enjoy McLean&rsquo\;s famous <strong>mini country ham biscuits</strong> and <strong>BBQ meatballs</strong>\, a perfect way to toast the new year!<br />\nThis festive gathering is your chance to strengthen connections\, foster new relationships\, and celebrate the opportunities 2025 holds for our community.</span></span><br />\n&nbsp\;\n<h3><span style="font-size:16px\;"><span style="font-family:arial\;"><strong>&#10024\; Start 2025 right! See you this Thursday at Absolute Chevrolet!&nbsp\;&#10024\;</strong></span></span></h3>\n<br />\n&nbsp\;</div>\n</div>\n
LOCATION:
UID:e.1168.8517
SEQUENCE:3
DTSTAMP:20260422T112853Z
URL:https://business.zebulonchamber.org/events/details/business-after-hours-absolute-chevrolet-8517
END:VEVENT

END:VCALENDAR
