BEGIN:VCALENDAR
VERSION:2.0
PRODID:-//ChamberMaster//Event Calendar 2.0//EN
METHOD:PUBLISH
X-PUBLISHED-TTL:P3D
REFRESH-INTERVAL:P3D
CALSCALE:GREGORIAN
BEGIN:VEVENT
DTSTART:20230112T213000Z
DTEND:20230112T230000Z
X-MICROSOFT-CDO-ALLDAYEVENT:FALSE
SUMMARY:Business After Hours @ Benchmark Community Bank
DESCRIPTION:Kick off 2023 right!\n\n\n\nDrop in Benchmark Community Bank for drinks\, refreshments\, and reconnections at the first Business After Hours of the New Year.\n\n\n\nSupport local literacy efforts by bringing a gently used or new book to donate to the   WAKE Up and Read 10th Annual Book Drive.  WAKE Up and Read is a community coalition dedicated to ensuring that each and every child in Wake County - regardless of race\, ethnicity\, and socio-economic status - will read proficiently by the end of 3rd grade. Book selections for elementary through middle grades are appropriate. Zebulon Chamber is a book collection partner for East County.\n\n\n\nSo shake of the old and ring in the new! Drop in Benchmark Community Bank to start the year off right and drop off your favorite book to support local literacy.
X-ALT-DESC;FMTTYPE=text/html:<span style="font-size:14px\;"><span style="font-family:arial\;">Kick off 2023 right!<br />\n<br />\nDrop in <strong>Benchmark Community Bank </strong>for drinks\, refreshments\, and reconnections at the first Business After Hours of the New Year.<br />\n<br />\nSupport local literacy efforts by bringing a gently used or new book to donate to the </span></span><span style="font-family: arial\; font-size: 14px\;">&nbsp\;&#8203\;</span><strong><span style="font-family: arial\; font-size: 14px\; color: black\;">WAKE Up and Read&nbsp\;</span></strong><span style="font-size:14px\;"><span style="font-family:arial\;"><strong>10th Annual Book Drive.</strong>&nbsp\;&#8203\;<span style="color:black\;">WAKE Up and Read is a community coalition dedicated to ensuring that each and every child in Wake County - regardless of race\, ethnicity\, and socio-economic status - will read proficiently by the end of 3rd grade. Book selections for elementary through middle grades are appropriate. Zebulon Chamber is a book collection partner for East County.<br />\n<br />\nSo shake of the old and ring in the new! Drop in <strong>Benchmark Community Bank</strong> to start the year off right and drop off your favorite book to support local literacy.</span></span></span><br />\n&nbsp\;
LOCATION:
UID:e.1168.7173
SEQUENCE:3
DTSTAMP:20260422T165718Z
URL:https://business.zebulonchamber.org/events/details/business-after-hours-benchmark-community-bank-7173
END:VEVENT

END:VCALENDAR
