BEGIN:VCALENDAR
VERSION:2.0
PRODID:-//ChamberMaster//Event Calendar 2.0//EN
METHOD:PUBLISH
X-PUBLISHED-TTL:P3D
REFRESH-INTERVAL:P3D
CALSCALE:GREGORIAN
BEGIN:VEVENT
DTSTART:20200206T223000Z
DTEND:20200207T000000Z
X-MICROSOFT-CDO-ALLDAYEVENT:FALSE
SUMMARY:Business After Hours | Cricket Wireless
DESCRIPTION:Join us for Business After Hours with Cricket Wireless\, a nationwide 4g LTE network\, simple plans at low prices\, exceptional customer service\, and ten million smiling customers. They are the highest in customer service among Non-Contract Full-Service Wireless Providers. \n\n\n\nSee their space and learn about their services\, enjoy light refreshments and connect with other business associates in the community.
X-ALT-DESC;FMTTYPE=text/html:Join us for Business After Hours with Cricket Wireless\, a nationwide 4g LTE network\, simple plans at low prices\, exceptional customer service\, and ten million smiling customers. They are the highest in customer service among Non-Contract Full-Service Wireless Providers.&nbsp\;<br />\n<br />\nSee their space and learn about their services\, enjoy light refreshments and connect with other business associates in the community.&nbsp\;
LOCATION:877 East Gannon Avenue Zebulon\, NC 27597
UID:e.1168.5925
SEQUENCE:3
DTSTAMP:20260424T185225Z
URL:https://business.zebulonchamber.org/events/details/business-after-hours-cricket-wireless-5925
END:VEVENT

END:VCALENDAR
