BEGIN:VCALENDAR
VERSION:2.0
PRODID:-//ChamberMaster//Event Calendar 2.0//EN
METHOD:PUBLISH
X-PUBLISHED-TTL:P3D
REFRESH-INTERVAL:P3D
CALSCALE:GREGORIAN
BEGIN:VEVENT
DTSTART:20230413T203000Z
DTEND:20230413T220000Z
X-MICROSOFT-CDO-ALLDAYEVENT:FALSE
SUMMARY:Business After Hours @ East Wake Academy
DESCRIPTION:Take time out of your day to meet other professionals. Learn about their businesses. Share about yours. Drop-in to network and build valuable relationships.\n\n\n\nWhere can you do this? @ Zebulon Chamber's March Business After Hours\, hosted by East Wake Academy. \n\n\n\nCONNECT_COLLABORATE_FOR COMMUNITY & COMMERCE
X-ALT-DESC;FMTTYPE=text/html:Take time out&nbsp\;of your day to meet other professionals. Learn about their businesses. Share about yours. Drop-in to network and build valuable relationships.<br />\n<br />\nWhere can you do this? @ Zebulon Chamber&#39\;s March Business After Hours\, hosted by <a href="https://www.eastwakeacademy.org/">East Wake Academy.</a>&nbsp\;<br />\n<br />\n<em>CONNECT_COLLABORATE_FOR COMMUNITY &amp\; COMMERCE</em>
LOCATION:Eagle Hall in the Senior High School
UID:e.1168.7176
SEQUENCE:3
DTSTAMP:20260422T123051Z
URL:https://business.zebulonchamber.org/events/details/business-after-hours-east-wake-academy-7176
END:VEVENT

END:VCALENDAR
