BEGIN:VCALENDAR
VERSION:2.0
PRODID:-//ChamberMaster//Event Calendar 2.0//EN
METHOD:PUBLISH
X-PUBLISHED-TTL:P3D
REFRESH-INTERVAL:P3D
CALSCALE:GREGORIAN
BEGIN:VEVENT
DTSTART:20230309T213000Z
DTEND:20230309T230000Z
X-MICROSOFT-CDO-ALLDAYEVENT:FALSE
SUMMARY:Business After Hours @ East Wake Collective
DESCRIPTION:Take time out of your day to meet other professionals. Learn about their businesses. Share about yours. Drop-in to network and build valuable relationships.\n\n\n\nWhere can you do this? @ Zebulon Chamber's March Business After Hours\, hosted by East Wake Collective.
X-ALT-DESC;FMTTYPE=text/html:Take time out&nbsp\;of your day to meet other professionals. Learn about their businesses. Share about yours. Drop-in to network and build valuable relationships.<br />\n<br />\nWhere can you do this? @ Zebulon Chamber&#39\;s March Business After Hours\, hosted by <a href="https://eastwakecollective.business.site/">East Wake Collective</a>.&nbsp\;
LOCATION:
UID:e.1168.7175
SEQUENCE:3
DTSTAMP:20260422T135956Z
URL:https://business.zebulonchamber.org/events/details/business-after-hours-east-wake-collective-7175
END:VEVENT

END:VCALENDAR
