BEGIN:VCALENDAR
VERSION:2.0
PRODID:-//ChamberMaster//Event Calendar 2.0//EN
METHOD:PUBLISH
X-PUBLISHED-TTL:P3D
REFRESH-INTERVAL:P3D
CALSCALE:GREGORIAN
BEGIN:VEVENT
DTSTART:20191212T223000Z
DTEND:20191213T000000Z
X-MICROSOFT-CDO-ALLDAYEVENT:FALSE
SUMMARY:Business After Hours & Elected Officials Reception | Les Merritt
DESCRIPTION:Connect and Collaborate at Business After Hours & Elected Officials Reception\n\n\n\nJoin us for Business After Hours hosted by Les Merritt.See their space and enjoy refreshments as you mingle with business associates of our community - and our newest elected officials.\n\n\n\nCome connect with our three new Commissioners serving the Zebulon Community.\n\n\n\nMake new connections\, strengthen existing relationships\, and find ways to grow your business after work.\n\n\n\nLes Merritt CPA-CFP is the down-to-earth\, relatable principle of a very personable\, helpful\, resourceful\, and experienced team\, whose clients come from farmers and sole proprietors\, to lawyers\, government officials\, associations and corporations. Les Merritt\, for four years\, has demonstrated excellence in the profession as State Auditor and as a member of the North Carolina Council of State.\n\n\n\nBusiness After Hours allows you to meet business contacts in an informal atmosphere. We anticipate 50 people at this event!\n\n\n\nDon't miss this opportunity to meet other Chamber members while you learn more about Les Merritt.
X-ALT-DESC;FMTTYPE=text/html:<strong>Connect and Collaborate at Business After Hours &amp\; Elected Officials Reception</strong><br />\n<br />\nJoin us for Business After Hours hosted by Les Merritt.See their space and enjoy refreshments as you mingle with business associates of our community - and our newest elected officials.<br />\n<br />\n<span style="color: rgb(68\, 68\, 68)\; font-family: Arial\, Verdana\, Helvetica\, sans-serif\; font-size: 14px\; font-weight: 700\; white-space: pre-wrap\;">Come connect with our three new Commissioners serving the Zebulon Community.</span><br />\n<br />\nMake new connections\, strengthen existing relationships\, and find ways to grow your business after work.<br />\n<br />\nLes Merritt CPA-CFP is the down-to-earth\, relatable principle of a very personable\, helpful\, resourceful\, and experienced team\, whose clients come from farmers and sole proprietors\, to lawyers\, government officials\, associations and corporations. Les Merritt\, for four years\, has demonstrated excellence in the profession as State Auditor and as a member of the North Carolina Council of State.<br />\n<br />\nBusiness After Hours allows you to meet business contacts in an informal atmosphere. We anticipate 50 people at this event!<br />\n<br />\nDon&#39\;t miss this opportunity to meet other Chamber members while you learn more about Les Merritt.<br />\n<br />\n&nbsp\;
LOCATION:1014 N. Arendell Zebulon\, NC 27597
UID:e.1168.5856
SEQUENCE:3
DTSTAMP:20260424T211510Z
URL:https://business.zebulonchamber.org/events/details/business-after-hours-elected-officials-reception-les-merritt-5856
END:VEVENT

END:VCALENDAR
