BEGIN:VCALENDAR
VERSION:2.0
PRODID:-//ChamberMaster//Event Calendar 2.0//EN
METHOD:PUBLISH
X-PUBLISHED-TTL:P3D
REFRESH-INTERVAL:P3D
CALSCALE:GREGORIAN
BEGIN:VEVENT
DTSTART:20230511T203000Z
DTEND:20230511T220000Z
X-MICROSOFT-CDO-ALLDAYEVENT:FALSE
SUMMARY:Business After Hours @ Empowered Citizens
DESCRIPTION:Looking for an exciting and engaging networking opportunity in the Zebulon area? Look no further than the Zebulon Chamber's Business After Hours hosted by Empowered Citizens! This event is the perfect opportunity to meet and connect with other professionals and civic leaders in the area\, while enjoying delicious refreshments and learning about the innovative work for our youth through Empowered Citizens.\n\n\n\nDon't miss out on this chance to expand your professional network and discover more hat Zebulon has to offer!
X-ALT-DESC;FMTTYPE=text/html:Looking for an exciting and engaging networking opportunity in the Zebulon area? Look no further than the Zebulon Chamber&#39\;s Business After Hours hosted by Empowered Citizens! This event is the perfect opportunity to meet and connect with other professionals and civic leaders in the area\, while enjoying delicious refreshments and learning about the innovative work for our youth through Empowered Citizens.<br />\n<br />\nDon&#39\;t miss out on this chance to expand your professional network and discover more hat Zebulon has to offer!
LOCATION:
UID:e.1168.7555
SEQUENCE:3
DTSTAMP:20260422T110231Z
URL:https://business.zebulonchamber.org/events/details/business-after-hours-empowered-citizens-7555
END:VEVENT

END:VCALENDAR
