BEGIN:VCALENDAR
VERSION:2.0
PRODID:-//ChamberMaster//Event Calendar 2.0//EN
METHOD:PUBLISH
X-PUBLISHED-TTL:P3D
REFRESH-INTERVAL:P3D
CALSCALE:GREGORIAN
BEGIN:VEVENT
DTSTART:20231214T220000Z
DTEND:20231214T233000Z
X-MICROSOFT-CDO-ALLDAYEVENT:FALSE
SUMMARY:Business After Hours @ Narron Merritt CPA
DESCRIPTION:Zebulon Chamber's Christmas Business After Hours hosted by Narron Merritt\n\n \n\nJoin us for a festive evening of networking\, holiday treats\, and giving back! Hosted by Narron Merritt\, this annual event is an opportunity to connect with local businesses and spread holiday cheer.\n\n \n\n  Gift for a Cause:\n\nHelp make the season brighter for children in need by bringing a new\, unwrapped gift for the Zebulon Toy Drive benefiting Share Thrift Boutique.\n\n \n\n  Highlights:\n\n- Networking with local business leaders\n\n- Enjoying festive refreshments\n\n- Supporting the community with your generosity\n\n \n\n  RSVP:\n\nPlease register using the link on this page.\n\n \n\nLet's celebrate the holidays together and make a positive impact on our community! See you there!
X-ALT-DESC;FMTTYPE=text/html:<div>&#127876\; Zebulon Chamber&#39\;s Christmas Business After Hours hosted by Narron Merritt</div>\n\n<div>&nbsp\;</div>\n\n<div>Join us for a festive evening of networking\, holiday treats\, and giving back! Hosted by Narron Merritt\, this annual event is an opportunity to connect with local businesses and spread holiday cheer.</div>\n\n<div>&nbsp\;</div>\n\n<div>&#127873\; Gift for a Cause:</div>\n\n<div>Help make the season brighter for children in need by bringing a new\, unwrapped gift for the Zebulon Toy Drive benefiting Share Thrift Boutique.</div>\n\n<div>&nbsp\;</div>\n\n<div>&#127775\; Highlights:</div>\n\n<div>- Networking with local business leaders</div>\n\n<div>- Enjoying festive refreshments</div>\n\n<div>- Supporting the community with your generosity</div>\n\n<div>&nbsp\;</div>\n\n<div>&#128233\; RSVP:</div>\n\n<div>Please register using the link on this page.<br />\n&nbsp\;</div>\n\n<div>Let&#39\;s celebrate the holidays together and make a positive impact on our community! See you there!</div>\n
LOCATION:
UID:e.1168.7629
SEQUENCE:3
DTSTAMP:20260421T161850Z
URL:https://business.zebulonchamber.org/events/details/business-after-hours-narron-merritt-cpa-7629
END:VEVENT

END:VCALENDAR
