BEGIN:VCALENDAR
VERSION:2.0
PRODID:-//ChamberMaster//Event Calendar 2.0//EN
METHOD:PUBLISH
X-PUBLISHED-TTL:P3D
REFRESH-INTERVAL:P3D
CALSCALE:GREGORIAN
BEGIN:VEVENT
DTSTART:20240111T220000Z
DTEND:20240111T233000Z
X-MICROSOFT-CDO-ALLDAYEVENT:FALSE
SUMMARY:Business After Hours @ Root Bound
DESCRIPTION:Mark Your Calendars! Kick off January with a Business After Hours event at Root Bound! Thursday Jan 11th\, 5:00pm to 6:30pm
X-ALT-DESC;FMTTYPE=text/html:Mark Your Calendars! Kick off January with a Business After Hours event at Root Bound! Thursday Jan 11th\, 5:00pm to 6:30pm
LOCATION:115 N. Arendell Ave.\,Zebulon\, NC\, 27597
UID:e.1168.7825
SEQUENCE:3
DTSTAMP:20260421T174340Z
URL:https://business.zebulonchamber.org/events/details/business-after-hours-root-bound-7825
END:VEVENT

END:VCALENDAR
