BEGIN:VCALENDAR
VERSION:2.0
PRODID:-//ChamberMaster//Event Calendar 2.0//EN
METHOD:PUBLISH
X-PUBLISHED-TTL:P3D
REFRESH-INTERVAL:P3D
CALSCALE:GREGORIAN
BEGIN:VEVENT
DTSTART:20220512T213000Z
DTEND:20220512T230000Z
X-MICROSOFT-CDO-ALLDAYEVENT:FALSE
SUMMARY:Business After Hours @ Zebulon GT Magnet Middle School
DESCRIPTION:Drop in to this month's Business After Hours at Zebulon GT Magnet Middle School. Connect with other Chamber members and take the opportunity to discuss and share ideas while learning about local businesses and developments in Zebulon. It is a relationship-building experience held in a relaxed setting that benefits you and your organization through added contacts and resources.
X-ALT-DESC;FMTTYPE=text/html:<span style="color: rgb(102\, 102\, 102)\; font-family: arial\; font-size: 16px\;">Drop in to this month&#39\;s Business After Hours at Zebulon GT Magnet Middle School. Connect with other Chamber members and take the opportunity to discuss and share ideas while learning about local businesses and developments in Zebulon. It is a relationship-building experience held in a relaxed setting that benefits you and your organization through added contacts and resources.</span>
LOCATION:Zebulon GT Magnet Middle School
UID:e.1168.6896
SEQUENCE:3
DTSTAMP:20260423T050735Z
URL:https://business.zebulonchamber.org/events/details/business-after-hours-zebulon-gt-magnet-middle-school-6896
END:VEVENT

END:VCALENDAR
