BEGIN:VCALENDAR
VERSION:2.0
PRODID:-//ChamberMaster//Event Calendar 2.0//EN
METHOD:PUBLISH
X-PUBLISHED-TTL:P3D
REFRESH-INTERVAL:P3D
CALSCALE:GREGORIAN
BEGIN:VEVENT
DTSTART:20200109T223000Z
DTEND:20200110T000000Z
X-MICROSOFT-CDO-ALLDAYEVENT:FALSE
SUMMARY:Business After Hours | Zebulon Middle School
DESCRIPTION:Join us for refreshments and networking at Zebulon Middle School in the Media Center. Food will be prepared and presented by ZGTMMS Family\, Career and Community Leaders of America students.\n\n\n\nCome and see all the exciting magnet offerings Zebulon Middle provides students in 6th\, 7th\, and 8th grade.\n\n \n\nWe welcome our business community to also join in the ZGTMMS Magnet Open House starting a 6pm.\n\n \n\nThe mission of Zebulon Gifted & Talented Magnet Middle School is to prepare all students to be competitive in the 21st Century by broadening the focus beyond the core subjects to include life and thinking skills\, current technology and global\, civic and health awareness.\n\n\n\nWe envision a school that is data driven and student-centered\, that works in collaboration with our parents and the community to provide a safe and interactive environment where everyone involved has the opportunity to contribute\, learn and grow. Come partner with us to make this vision a reality!
X-ALT-DESC;FMTTYPE=text/html:<span style="color:#696969\;"><span style="font-size:14px\;">Join us for refreshments and networking at Zebulon Middle School in the Media Center. Food will be prepared and presented by ZGTMMS Family\, Career and Community Leaders of America students.<br />\n<br />\nCome and see al<span style="font-family:arial\;">l the exciting magnet offerings Zebulon Middle provides students in 6th\, 7th\, and 8th grade.<br />\n&nbsp\;<br />\nWe welcome our business community to also join in the ZGTMMS Magnet Open House starting a 6pm.<br />\n&nbsp\;<br />\nThe mission of Zebulon Gifted &amp\; Talented Magnet Middle School is to prepare all students to be competitive in the 21st Century by broadening the focus beyond the core subjects to include life and thinking skills\, current technology and global\, civic and health awareness.<br />\n<br />\nWe envision a school that is data driven and student-centered\, that works in collaboration with our parents and the community to provide a safe and interactive environment where everyone involved has the opportunity to contribute\, learn and grow.&nbsp\;Come partner with us to make this vision a reality!</span></span></span><br />\n&nbsp\;
LOCATION:1000 Shepard School Rd\, Zebulon\, NC 27597
UID:e.1168.5924
SEQUENCE:3
DTSTAMP:20260424T200713Z
URL:https://business.zebulonchamber.org/events/details/business-after-hours-zebulon-middle-school-5924
END:VEVENT

END:VCALENDAR
