BEGIN:VCALENDAR
VERSION:2.0
PRODID:-//ChamberMaster//Event Calendar 2.0//EN
METHOD:PUBLISH
X-PUBLISHED-TTL:P3D
REFRESH-INTERVAL:P3D
CALSCALE:GREGORIAN
BEGIN:VEVENT
DTSTART:20221110T213000Z
DTEND:20221110T230000Z
X-MICROSOFT-CDO-ALLDAYEVENT:FALSE
SUMMARY:Business After Hours: Zebulon Rehabilitation Center
DESCRIPTION:Join us for Business After Hours\, hosted by Zebulon Rehabilitation Center. Connect with other business leaders and community members over refreshments. Meet their staff and  learn about the impact they have on our community!\n\n\n\nFor Chamber Members & their Guests as part of Chamber Membership Investment
X-ALT-DESC;FMTTYPE=text/html:Join us for Business After Hours\, hosted by Zebulon Rehabilitation&nbsp\;Center. Connect with other business leaders and community members over refreshments. Meet their staff and&nbsp\; learn about the impact they have on our community!<br />\n<br />\nFor Chamber Members &amp\; their Guests as part of Chamber Membership Investment
LOCATION:
UID:e.1168.7156
SEQUENCE:3
DTSTAMP:20260422T213213Z
URL:https://business.zebulonchamber.org/events/details/business-after-hours-zebulon-rehabilitation-center-7156
END:VEVENT

END:VCALENDAR
