BEGIN:VCALENDAR
VERSION:2.0
PRODID:-//ChamberMaster//Event Calendar 2.0//EN
METHOD:PUBLISH
X-PUBLISHED-TTL:P3D
REFRESH-INTERVAL:P3D
CALSCALE:GREGORIAN
BEGIN:VEVENT
DTSTART:20231118T210000Z
DTEND:20231119T010000Z
X-MICROSOFT-CDO-ALLDAYEVENT:FALSE
SUMMARY:Candy Cane Lane & Tree Lighting Festival
DESCRIPTION:Candy Cane Lane & Downtown Tree Lighting Festival\n\nDate: Saturday\, November 18\n\nTime: 4:00-8:00PM\n\nLocation: Downtown Zebulon (Arendell Avenue between Vance and Sycamore Street)\n\nCelebrate the holiday season in Downtown Zebulon. Spend the evening strolling Arendell Avenue visiting downtown businesses\, participating in Christmas activities\, enjoying live performances\, and celebrating with community members. Activities will include:\n\nVisits with Santa\n\nFree Holiday Crafts\n\nLetters To Santa\n\nGames\n\nHot Chocolate\n\nFood Trucks\n\nAnd So Much More!
X-ALT-DESC;FMTTYPE=text/html:<span style="background-color:rgb(240\, 240\, 240)\; color:rgb(34\, 34\, 34)\; font-family:arial\; font-size:12px">Candy Cane Lane &amp\; Downtown Tree Lighting Festival</span><br />\n<span style="background-color:rgb(240\, 240\, 240)\; color:rgb(34\, 34\, 34)\; font-family:arial\; font-size:12px">Date: Saturday\, November 18</span><br />\n<span style="background-color:rgb(240\, 240\, 240)\; color:rgb(34\, 34\, 34)\; font-family:arial\; font-size:12px">Time: 4:00-8:00PM</span><br />\n<span style="background-color:rgb(240\, 240\, 240)\; color:rgb(34\, 34\, 34)\; font-family:arial\; font-size:12px">Location: Downtown Zebulon (Arendell Avenue between Vance and Sycamore Street)</span><br />\n<span style="background-color:rgb(240\, 240\, 240)\; color:rgb(34\, 34\, 34)\; font-family:arial\; font-size:12px">Celebrate the holiday season in Downtown Zebulon. Spend the evening strolling Arendell Avenue visiting downtown businesses\, participating in Christmas activities\, enjoying live performances\, and celebrating with community members. Activities will include:</span><br />\n<span style="background-color:rgb(240\, 240\, 240)\; color:rgb(34\, 34\, 34)\; font-family:arial\; font-size:12px">Visits with Santa</span><br />\n<span style="background-color:rgb(240\, 240\, 240)\; color:rgb(34\, 34\, 34)\; font-family:arial\; font-size:12px">Free Holiday Crafts</span><br />\n<span style="background-color:rgb(240\, 240\, 240)\; color:rgb(34\, 34\, 34)\; font-family:arial\; font-size:12px">Letters To Santa</span><br />\n<span style="background-color:rgb(240\, 240\, 240)\; color:rgb(34\, 34\, 34)\; font-family:arial\; font-size:12px">Games</span><br />\n<span style="background-color:rgb(240\, 240\, 240)\; color:rgb(34\, 34\, 34)\; font-family:arial\; font-size:12px">Hot Chocolate</span><br />\n<span style="background-color:rgb(240\, 240\, 240)\; color:rgb(34\, 34\, 34)\; font-family:arial\; font-size:12px">Food Trucks</span><br />\n<span style="background-color:rgb(240\, 240\, 240)\; color:rgb(34\, 34\, 34)\; font-family:arial\; font-size:12px">And So Much More!</span>
LOCATION:Downtown Zebulon (Arendell Avenue between Vance and Sycamore Street)
UID:e.1168.7664
SEQUENCE:3
DTSTAMP:20260421T164427Z
URL:https://business.zebulonchamber.org/events/details/candy-cane-lane-amp-tree-lighting-festival-7664
END:VEVENT

END:VCALENDAR
