BEGIN:VCALENDAR
VERSION:2.0
PRODID:-//ChamberMaster//Event Calendar 2.0//EN
METHOD:PUBLISH
X-PUBLISHED-TTL:P3D
REFRESH-INTERVAL:P3D
CALSCALE:GREGORIAN
BEGIN:VEVENT
DTSTART;VALUE=DATE:20240511
DTEND;VALUE=DATE:20240512
TRANSP:TRANSPARENT
X-MICROSOFT-CDO-ALLDAYEVENT:TRUE
SUMMARY:Carlie C's Meat Truck Sale
DESCRIPTION:Craving some delicious meats and fresh produce? Look no further than Carlie C's IGA Meat Truck Sale event!\n\n\n\nJoin us as we celebrate our chamber member Carlie C's and their mouthwatering selection of goodies. From succulent crab legs to juicy pork\, tender beef to savory chicken\, and even fresh salmon\, corn\, cucumbers\, cheese\, and more   they've got it all!
X-ALT-DESC;FMTTYPE=text/html:<div class="xdj266r x11i5rnm xat24cr x1mh8g0r x1vvkbs x126k92a" style="margin: 0px\; white-space-collapse: preserve\; overflow-wrap: break-word\; font-family: &quot\;Segoe UI Historic&quot\;\, &quot\;Segoe UI&quot\;\, Helvetica\, Arial\, sans-serif\; color: rgb(5\, 5\, 5)\; font-size: 15px\;">\n<div dir="auto" style="font-family: inherit\;">Craving some delicious meats and fresh produce? Look no further than <span style="font-family: inherit\;"><a class="x1i10hfl xjbqb8w x1ejq31n xd10rxx x1sy0etr x17r0tee x972fbf xcfux6l x1qhh985 xm0m39n x9f619 x1ypdohk xt0psk2 xe8uvvx xdj266r x11i5rnm xat24cr x1mh8g0r xexx8yu x4uap5 x18d9i69 xkhd6sd x16tdsg8 xggy1nq x1a2a7pz xt0b8zv x1hl2dhg x1fey0fg xo1l8bm" href="https://www.facebook.com/CarlieCs.IGA.Stores?__cft__[0]=AZUKQ-MvlA4tcsv28-JMomN3OZGYYwv5anNspNN6MO5XhgSu5sFFRYSjUkuTSidyCESnX3mt49012S_RGaSo8ctrQDt7q9LE4l4U6QznPD4Xupb0_i6Auvynh4qKqNif6Y-UKTXYBmken-pfo5TTjePp1Wh_YVXU5P0R77jZM20H2A&amp\;__tn__=-]K-R" role="link" style="color: var(--blue-link)\; cursor: pointer\; text-decoration-line: none\; outline: none\; list-style: none\; margin: 0px\; text-align: inherit\; border-style: none\; padding: 0px\; border-width: 0px\; box-sizing: border-box\; background-color: transparent\; display: inline\; -webkit-tap-highlight-color: transparent\; touch-action: manipulation\; font-family: inherit\;" tabindex="0" target="_blank"><span class="xt0psk2" style="display: inline\; font-family: inherit\;">Carlie C&#39\;s IGA</span></a></span> Meat Truck Sale event!</div>\n</div>\n\n<div class="x11i5rnm xat24cr x1mh8g0r x1vvkbs xtlvy1s x126k92a" style="margin: 0.5em 0px 0px\; white-space-collapse: preserve\; overflow-wrap: break-word\; font-family: &quot\;Segoe UI Historic&quot\;\, &quot\;Segoe UI&quot\;\, Helvetica\, Arial\, sans-serif\; color: rgb(5\, 5\, 5)\; font-size: 15px\;">\n<div dir="auto" style="font-family: inherit\;">Join us as we celebrate our chamber member Carlie C&#39\;s and their mouthwatering selection of goodies. From succulent crab legs to juicy pork\, tender beef to savory chicken\, and even fresh salmon\, corn\, cucumbers\, cheese\, and more &ndash\; they&#39\;ve got it all!</div>\n</div>\n
LOCATION:506 W Gannon Ave\, Zebulon\, NC 27597
UID:e.1168.7907
SEQUENCE:3
DTSTAMP:20260421T185055Z
URL:https://business.zebulonchamber.org/events/details/carlie-c-s-meat-truck-sale-7907
END:VEVENT

END:VCALENDAR
