BEGIN:VCALENDAR
VERSION:2.0
PRODID:-//ChamberMaster//Event Calendar 2.0//EN
METHOD:PUBLISH
X-PUBLISHED-TTL:P3D
REFRESH-INTERVAL:P3D
CALSCALE:GREGORIAN
BEGIN:VEVENT
DTSTART:20231116T170000Z
DTEND:20231116T183000Z
X-MICROSOFT-CDO-ALLDAYEVENT:FALSE
SUMMARY:Chamber Board of Directors Meeting
DESCRIPTION:
X-ALT-DESC;FMTTYPE=text/html:
LOCATION:
UID:e.1168.7268
SEQUENCE:3
DTSTAMP:20260421T150225Z
URL:https://business.zebulonchamber.org/events/details/chamber-board-of-directors-meeting-11-16-2023-7268
END:VEVENT

END:VCALENDAR
