BEGIN:VCALENDAR
VERSION:2.0
PRODID:-//ChamberMaster//Event Calendar 2.0//EN
METHOD:PUBLISH
X-PUBLISHED-TTL:P3D
REFRESH-INTERVAL:P3D
CALSCALE:GREGORIAN
BEGIN:VEVENT
DTSTART:20230330T160000Z
DTEND:20230330T174500Z
X-MICROSOFT-CDO-ALLDAYEVENT:FALSE
SUMMARY:Chamber Board of Directors Meeting
DESCRIPTION:Bi-monthly meeting of the Full Board of Directors.
X-ALT-DESC;FMTTYPE=text/html:Bi-monthly meeting of the Full Board of Directors.
LOCATION:
UID:e.1168.7563
SEQUENCE:3
DTSTAMP:20260422T140029Z
URL:https://business.zebulonchamber.org/events/details/chamber-board-of-directors-meeting-7563
END:VEVENT

END:VCALENDAR
