BEGIN:VCALENDAR
VERSION:2.0
PRODID:-//ChamberMaster//Event Calendar 2.0//EN
METHOD:PUBLISH
X-PUBLISHED-TTL:P3D
REFRESH-INTERVAL:P3D
CALSCALE:GREGORIAN
BEGIN:VEVENT
DTSTART:20230509T220000Z
DTEND:20230510T003000Z
X-MICROSOFT-CDO-ALLDAYEVENT:FALSE
SUMMARY:Steel Magnolias Garden Club
DESCRIPTION:Monthly Steel Magnolias Garden Club Meeting. Members\, their guests\, and those interested in joining are always welcome!
X-ALT-DESC;FMTTYPE=text/html:Monthly Steel Magnolias Garden Club Meeting. Members\, their guests\, and those interested in joining are always welcome!
LOCATION:Zebulon United Methodist Church Fellowship Hall: 121 W Gannon Ave\, Zebulon\, NC 27597
UID:e.1168.7415
SEQUENCE:3
DTSTAMP:20260422T110558Z
URL:https://business.zebulonchamber.org/events/details/club-meeting-05-09-2023-7415
END:VEVENT

END:VCALENDAR
