BEGIN:VCALENDAR
VERSION:2.0
PRODID:-//ChamberMaster//Event Calendar 2.0//EN
METHOD:PUBLISH
X-PUBLISHED-TTL:P3D
REFRESH-INTERVAL:P3D
CALSCALE:GREGORIAN
BEGIN:VEVENT
DTSTART:20230613T220000Z
DTEND:20230614T003000Z
X-MICROSOFT-CDO-ALLDAYEVENT:FALSE
SUMMARY:Steel Magnolias Garden Club
DESCRIPTION:JOIN US!\n\n\n\nThe Steel Magnolias Garden Club meets the 2nd Tuesday of each month at the Zebulon United Methodist Church Fellowship Hall at 6:00 PM.  Each month features a different speaker or project.\n\nClub members are always available to answer your gardening questions or share their plants.\n\nThe club maintains public gardens at the Nature Trail and library and participates in other community service projects such as downtown beautification\, Springfest\, and Candy Cane Lane. \n\n\n\nMembers\, their guests\, and those interested in joining are always welcome!
X-ALT-DESC;FMTTYPE=text/html:<br />\n<span style="font-size:14px\;"><span style="font-family:arial\;">JOIN US!<br />\n<br />\nThe Steel Magnolias Garden Club meets the 2nd Tuesday of each month at the Zebulon United Methodist Church Fellowship Hall at 6:00 PM.&nbsp\; Each month features a different speaker or project.<br />\nClub members are always available to answer your gardening questions or share their plants.<br />\nThe club maintains public gardens at the Nature Trail and library and participates in other community service projects such as downtown beautification\, Springfest\, and Candy Cane Lane.&nbsp\;<br />\n<br />\nMembers\, their guests\, and those interested in joining are always welcome!</span></span>
LOCATION:Zebulon United Methodist Church Fellowship Hall: 121 W Gannon Ave\, Zebulon\, NC 27597
UID:e.1168.7416
SEQUENCE:3
DTSTAMP:20260422T093428Z
URL:https://business.zebulonchamber.org/events/details/club-meeting-06-13-2023-7416
END:VEVENT

END:VCALENDAR
