BEGIN:VCALENDAR
VERSION:2.0
PRODID:-//ChamberMaster//Event Calendar 2.0//EN
METHOD:PUBLISH
X-PUBLISHED-TTL:P3D
REFRESH-INTERVAL:P3D
CALSCALE:GREGORIAN
BEGIN:VEVENT
DTSTART:20221005T124500Z
DTEND:20221005T140000Z
X-MICROSOFT-CDO-ALLDAYEVENT:FALSE
SUMMARY:Coffee Connections: A Conversation with Mayor York
DESCRIPTION:Do you want to know what's coming to Zebulon? \n\n\n\nJoin Mayor Glenn York for the first Coffee Connections of the season to be updated on the latest businesses coming to Zebulon and learn how to use the Town's interactive map to stay up-to-speed in real-time.\n\n\n\nThis is a wonderful opportunity to connect with town leaders and other business and townspeople in an informal setting. To foster meaningful dialogue and connections\, pre-registration is required and limited to six (6) guests per session.\n\n\n\nBreakfast generously provided by Huebner Family McDonald's\n\nFree to Zebulon Chamber of Commerce Members\n\n$10 for Non-members
X-ALT-DESC;FMTTYPE=text/html:<span style="font-size:16px\;"><span style="font-family:arial\;">Do you want to know what&#39\;s coming to Zebulon?&nbsp\;<br />\n<br />\nJoin Mayor Glenn York for the first Coffee Connections of the season to be updated on the latest businesses coming to Zebulon and learn how to use the Town&#39\;s interactive map to stay up-to-speed in real-time.<br />\n<br />\nThis is a wonderful opportunity to connect with town leaders and other business and townspeople in an informal setting.&nbsp\;To foster meaningful dialogue and connections\, pre-registration is required and limited to six (6) guests per session.<br />\n<br />\nBreakfast generously provided by Huebner Family McDonald&#39\;s<br />\nFree to Zebulon Chamber of Commerce Members<br />\n$10 for Non-members</span></span>
LOCATION:Zebulon Chamber of Commerce 815 N Arendell Ave Zebulon\, NC
UID:e.1168.7126
SEQUENCE:3
DTSTAMP:20260422T210828Z
URL:https://business.zebulonchamber.org/events/details/coffee-connections-a-conversation-with-mayor-york-7126
END:VEVENT

END:VCALENDAR
