BEGIN:VCALENDAR
VERSION:2.0
PRODID:-//ChamberMaster//Event Calendar 2.0//EN
METHOD:PUBLISH
X-PUBLISHED-TTL:P3D
REFRESH-INTERVAL:P3D
CALSCALE:GREGORIAN
BEGIN:VEVENT
DTSTART:20221207T134500Z
DTEND:20221207T150000Z
X-MICROSOFT-CDO-ALLDAYEVENT:FALSE
SUMMARY:Coffee Connections: A Conversation with Mayor York
DESCRIPTION:Do you want to know the latest news in Zebulon?\n\n\n\nJoin Mayor Glenn York to hear updates from him and Town of Zebulon staff.\n\n\n\nThis is a wonderful opportunity to connect with town leaders and other business and townspeople in an informal setting. To foster meaningful dialogue and connections\, pre-registration is required and limited to six (6) guests per session.\n\n\n\n8:45 AM to 9:00 AM Meet & Greet\n\n9:00 AM to 10 AM Breakfast\, Presentation\, and Informal Discussion\n\n\n\nBreakfast generously provided by Huebner Family McDonald's\n\nFree to Zebulon Chamber of Commerce Members\n\n$10 for Non-members
X-ALT-DESC;FMTTYPE=text/html:Do you want to know the latest news in Zebulon?<br />\n<br />\nJoin Mayor Glenn York to hear updates from him and Town of Zebulon staff.<br />\n<br />\nThis is a wonderful opportunity to connect with town leaders and other business and townspeople in an informal setting.&nbsp\;To foster meaningful dialogue and connections\, pre-registration is required and limited to six (6) guests per session.<br />\n<br />\n8:45 AM to 9:00 AM Meet &amp\; Greet<br />\n9:00 AM to 10 AM Breakfast\, Presentation\, and Informal Discussion<br />\n<br />\nBreakfast generously provided by Huebner Family McDonald&#39\;s<br />\nFree to Zebulon Chamber of Commerce Members<br />\n$10 for Non-members
LOCATION:
UID:e.1168.7155
SEQUENCE:3
DTSTAMP:20260422T182534Z
URL:https://business.zebulonchamber.org/events/details/coffee-connections-a-conversation-with-mayor-york-7155
END:VEVENT

END:VCALENDAR
