BEGIN:VCALENDAR
VERSION:2.0
PRODID:-//ChamberMaster//Event Calendar 2.0//EN
METHOD:PUBLISH
X-PUBLISHED-TTL:P3D
REFRESH-INTERVAL:P3D
CALSCALE:GREGORIAN
BEGIN:VEVENT
DTSTART:20230222T134500Z
DTEND:20230222T150000Z
X-MICROSOFT-CDO-ALLDAYEVENT:FALSE
SUMMARY:Coffee Connections: A Conversation with Mayor York
DESCRIPTION:Join Mayor York in welcoming to town Zebulon's first Economic Development Specialist\, Shannon Johnson. Ms. Johnson will be speaking about Community & Economic Development in Zebulon\; the need for a plan and how we are going to accomplish that. \n\n\n\n\n\nThis is a wonderful opportunity to connect with town leaders and other business and townspeople in an informal setting. To foster meaningful dialogue and connections\, pre-registration is required and limited to seven (7) guests per session.\n\n\n\n8:45 AM to 9:00 AM Meet & Greet\n\n9:00 AM to 10 AM Breakfast\, Presentation\, and Informal Discussion\n\n\n\nBreakfast generously provided by Huebner Family McDonald's\n\nFree to Zebulon Chamber of Commerce Members\n\n$10 for Non-members
X-ALT-DESC;FMTTYPE=text/html:Join Mayor York in welcoming to town Zebulon&#39\;s first Economic&nbsp\;Development Specialist\, Shannon Johnson. Ms. Johnson&nbsp\;will be speaking about Community &amp\; Economic Development in Zebulon\; the need for a plan and how we are going to accomplish that.&nbsp\;<br />\n<br />\n<br />\nThis is a wonderful opportunity to connect with town leaders and other business and townspeople in an informal setting.&nbsp\;To foster meaningful dialogue and connections\, pre-registration is required and limited to seven (7) guests per session.<br />\n<br />\n8:45 AM to 9:00 AM Meet &amp\; Greet<br />\n9:00 AM to 10 AM Breakfast\, Presentation\, and Informal Discussion<br />\n<br />\nBreakfast generously provided by Huebner Family McDonald&#39\;s<br />\nFree to Zebulon Chamber of Commerce Members<br />\n$10 for Non-members
LOCATION:
UID:e.1168.7177
SEQUENCE:3
DTSTAMP:20260422T152549Z
URL:https://business.zebulonchamber.org/events/details/coffee-connections-a-conversation-with-mayor-york-7177
END:VEVENT

END:VCALENDAR
