BEGIN:VCALENDAR
VERSION:2.0
PRODID:-//ChamberMaster//Event Calendar 2.0//EN
METHOD:PUBLISH
X-PUBLISHED-TTL:P3D
REFRESH-INTERVAL:P3D
CALSCALE:GREGORIAN
BEGIN:VEVENT
DTSTART:20240227T134500Z
DTEND:20240227T150000Z
X-MICROSOFT-CDO-ALLDAYEVENT:FALSE
SUMMARY:Coffee Connections: A Conversation with Mayor York
DESCRIPTION:Wake County's Property Revaluation: Shedding Light on Your Tax Assessment\n\nCoffee Connections: A Conversation with Mayor York\n\nA Part of the Government Affairs Series Sponsored by Zebulon Chamber\n\n\n\nJoin us for an enlightening Coffee Connections with Mayor Glenn York and special guest Brad Homlotis\, Appraisal Director\, Wake County Department of Tax Administration\, as they shed light on Wake County's property revaluation process. With property values rising due to the region's rapid growth and housing demand\, it's crucial to understand the assessment's process and its implications. Mayor York and Mr. Homlotis will provide valuable insights and resources to ensure guests understand the changes and how they affect property taxes.\n\n\n\nDon't miss this opportunity to gain clarity and engage with local leaders on this significant aspect of our community's development.\n\n\n\nTo allow for more in-depth engagement\, Coffee Connections is limited to eight (8) guests. Pre-registration required.
X-ALT-DESC;FMTTYPE=text/html:<strong><span style="font-size:22px\;">Wake County&#39\;s Property Revaluation: Shedding Light on Your Tax Assessment</span></strong><br />\n<strong style="font-family: arial\; font-size: 16px\;"><span style="font-size:20px\;">Coffee Connections: A Conversation with Mayor York</span></strong><br />\n<font face="arial"><span style="font-size: 16px\;">A Part of the Government Affairs Series Sponsored by Zebulon Chamber</span></font><br />\n<br />\n<font face="arial"><span style="font-size: 16px\;">Join us for an enlightening Coffee Connections with Mayor Glenn York and special guest Brad Homlotis\, Appraisal Director\, Wake County Department of Tax Administration\, as they shed light on Wake County&#39\;s property revaluation process. With property values rising due to the region&#39\;s rapid growth and housing demand\, it&#39\;s crucial to understand the assessment&#39\;s process and its implications. Mayor York and Mr. Homlotis will provide valuable insights and resources to ensure guests understand the changes and how they affect property taxes.</span></font><br />\n<br />\n<font face="arial"><span style="font-size: 16px\;">Don&#39\;t miss this opportunity to gain clarity and engage with local leaders on this significant aspect of our community&#39\;s development.</span></font><br />\n<br />\n<font face="arial"><span style="font-size: 16px\;">To allow for more in-depth&nbsp\;engagement\, Coffee Connections is limited to eight (8) guests. Pre-registration required.</span></font>
LOCATION:Zebulon Chamber 815 N Arendell Ave
UID:e.1168.7849
SEQUENCE:3
DTSTAMP:20260421T190942Z
URL:https://business.zebulonchamber.org/events/details/coffee-connections-a-conversation-with-mayor-york-7849
END:VEVENT

END:VCALENDAR
