BEGIN:VCALENDAR
VERSION:2.0
PRODID:-//ChamberMaster//Event Calendar 2.0//EN
METHOD:PUBLISH
X-PUBLISHED-TTL:P3D
REFRESH-INTERVAL:P3D
CALSCALE:GREGORIAN
BEGIN:VEVENT
DTSTART:20220502T130000Z
DTEND:20220502T140000Z
X-MICROSOFT-CDO-ALLDAYEVENT:FALSE
SUMMARY:Coffee Connections: A Monthly Conversation with Mayor York
DESCRIPTION:Join Mayor Glenn York\, Commissioner Quentin Miles\, and Planning Director Michael Clark at the Chamber for May's Coffee Connections from 9:00 AM to 10:00 AM where the Town will update guests on Zebulon's transportation plan. \n\nThis is a wonderful opportunity to connect with town leaders and other business and townspeople in an informal setting.\n\nTo foster meaningful dialogue and connections\, pre-registration is required and limited to six (6) guests per month.\n\nBreakfast provided\n\nFree to Zebulon Chamber of Commerce Members\n\n$10 for Non-members
X-ALT-DESC;FMTTYPE=text/html:<span style="color: rgb(0\, 0\, 0)\; font-family: Lato\, sans-serif\; font-size: 16px\; text-align: justify\;">Join Mayor Glenn York\, Commissioner Quentin Miles\, and Planning Director Michael Clark at the Chamber for May&#39\;s Coffee Connections from 9:00 AM to 10:00 AM where the Town will update guests on Zebulon&#39\;s transportation plan.&nbsp\;</span><br />\n<span style="font-size:16px\;"><span style="font-family:arial\;">This is a wonderful opportunity to connect with town leaders and other business and townspeople in an informal setting.</span></span><br />\n<span style="font-family: arial\; font-size: 16px\;">To foster meaningful dialogue and connections\, pre-registration is required and limited to six (6) guests per month.</span><br />\n<span style="font-size:16px\;"><span style="font-family:arial\;">Breakfast provided<br />\nFree to Zebulon Chamber of Commerce Members<br />\n$10 for Non-members</span></span>
LOCATION:Zebulon Chamber of Commerce
UID:e.1168.6882
SEQUENCE:3
DTSTAMP:20260420T163437Z
URL:https://business.zebulonchamber.org/events/details/coffee-connections-a-monthly-conversation-with-mayor-york-05-02-2022-6882
END:VEVENT

END:VCALENDAR
