BEGIN:VCALENDAR
VERSION:2.0
PRODID:-//ChamberMaster//Event Calendar 2.0//EN
METHOD:PUBLISH
X-PUBLISHED-TTL:P3D
REFRESH-INTERVAL:P3D
CALSCALE:GREGORIAN
BEGIN:VEVENT
DTSTART:20240409T123000Z
DTEND:20240409T180000Z
X-MICROSOFT-CDO-ALLDAYEVENT:FALSE
SUMMARY:College\, Career\, & Military Fair_Zebulon GT Magnet Middle School
DESCRIPTION:We Need You! @College\, Career\, & Military Fair @Zebulon GT Magnet Middle School \n\n \nWe are looking for businesses and business professionals who would like to share with students to help them get college/career/military ready! So WE NEED YOU & YOUR business to share your insight with them!\n\n \n\nWhat: ZGTMMS College/Career/Military Fair\n\nWhen: Tue April 9\, 2024\n\nTime: 8:30am-2pm\n\nWhat: Students will come to the gym in 3 waves and move table to table completing a Scavenger Hunt activity to learn about all the options they have in a wide variety of college/career/military pathways!\n\n \n\nCheck out last year's event!\n\nCollege/Career/Military Fair - ZGTMMS COLLEGE & CAREER DEVELOPMENT (weebly.com)\n\n \n\nPlease sign up here to be a part of this year's event: \n\nhttps://docs.google.com/forms/d/e/1FAIpQLScNwXDSXGSJeQtWzr8wdILq1YXdWmGVkBHlFO61Nb1CHBpslw/viewform?usp=sf_link\n \n\nQuestions? Please email Barnanne Creech (bwcreech@wcpss.net)
X-ALT-DESC;FMTTYPE=text/html:<span style="font-size:14px\;"><span style="font-family:arial\;"><strong style="color:rgb(51\, 51\, 51)\;font-family:arial\;font-size:14px\;"><span style="color:black\;">We Need You! @College\, Career\, &amp\; Military Fair @Zebulon GT Magnet Middle School&nbsp\;</span></strong></span></span><br style="color:rgb(51\, 51\, 51)\;font-family:arial\;font-size:14px\;" />\n&nbsp\;\n<div><span style="font-size:14px\;"><span style="font-family:arial\;">We are looking for businesses and business professionals who would like to share with students to help them get college/career/military ready! So WE NEED YOU &amp\; YOUR business to share your insight with them!</span></span></div>\n\n<div>&nbsp\;</div>\n\n<div><span style="font-size:14px\;"><span style="font-family:arial\;">What: ZGTMMS College/Career/Military Fair</span></span></div>\n\n<div><span style="font-size:14px\;"><span style="font-family:arial\;">When: Tue April 9\, 2024</span></span></div>\n\n<div><span style="font-size:14px\;"><span style="font-family:arial\;">Time: 8:30am-2pm</span></span></div>\n\n<div><span style="font-size:14px\;"><span style="font-family:arial\;">What: Students will come to the gym in 3 waves and move table to table completing a Scavenger Hunt activity to learn about all the options they have in a wide variety of college/career/military pathways!</span></span></div>\n\n<div>&nbsp\;</div>\n\n<div><span style="font-size:14px\;"><span style="font-family:arial\;">Check out last year&#39\;s event!</span></span><br />\n<a href="https://zgtmmscdc.weebly.com/collegecareermilitary-fair.html">College/Career/Military Fair - ZGTMMS COLLEGE &amp\; CAREER DEVELOPMENT (weebly.com)</a><br />\n&nbsp\;</div>\n\n<div>Please sign up here to be a part of this year&#39\;s&nbsp\;event:&nbsp\;<br />\n<a data-auth="NotApplicable" data-linkindex="1" href="https://docs.google.com/forms/d/e/1FAIpQLScNwXDSXGSJeQtWzr8wdILq1YXdWmGVkBHlFO61Nb1CHBpslw/viewform?usp=sf_link" style="font-family: arial\; font-size: 14px\;" target="_blank">https://docs.google.com/forms/d/e/1FAIpQLScNwXDSXGSJeQtWzr8wdILq1YXdWmGVkBHlFO61Nb1CHBpslw/viewform?usp=sf_link</a></div>\n<span style="font-size:14px\;"><span style="font-family:arial\;">&nbsp\;<br style="color:rgb(51\, 51\, 51)\;font-family:arial\;font-size:14px\;" />\n<span style="background-color:#ffffff\;">Questions? Please email Barnanne Creech (<a href="mailto:bwcreech@wcpss.net" style="color:rgb(7\, 130\, 193)\;">bwcreech@wcpss.net</a>)</span></span></span>
LOCATION:
UID:e.1168.7862
SEQUENCE:3
DTSTAMP:20260421T202843Z
URL:https://business.zebulonchamber.org/events/details/college-career-military-fair_zebulon-gt-magnet-middle-school-7862
END:VEVENT

END:VCALENDAR
