BEGIN:VCALENDAR
VERSION:2.0
PRODID:-//ChamberMaster//Event Calendar 2.0//EN
METHOD:PUBLISH
X-PUBLISHED-TTL:P3D
REFRESH-INTERVAL:P3D
CALSCALE:GREGORIAN
BEGIN:VEVENT
DTSTART:20240829T203000Z
DTEND:20240829T220000Z
X-MICROSOFT-CDO-ALLDAYEVENT:FALSE
SUMMARY:Community Calendar Planning_Zebulon Chamber Nonprofit Roundtable
DESCRIPTION:Zebulon Chamber is hosting the annual Community Calendar Planning Session for Zebulon Chamber Nonprofit Roundtable members on Thursday\, August 29\, 2024\, from 4:30 PM to 6:00 PM. Civic organizations sponsoring community-wide events are encouraged to participate.\n\n\n\nThe purpose of this session is for representatives from civic organizations\, churches\, and the Town to meet:\n\n	to facilitate dialogue and relationships among these organizations for a stronger Zebulon\,\n	 to share and discuss their organization's plans for community-wide events for September 2024 through Summer 2025\n	to consider how organizations sponsoring events around the same commemoration or celebration may complement each other's efforts\, and\n	to build a community calendar through the Zebulon Chamber's website for all residents and potential residents to view and follow events throughout the year.\n\n Free for Zebulon Chamber Nonprofit Roundtable members. The favor of registration is requested so we may plan seating and refreshments.
X-ALT-DESC;FMTTYPE=text/html:<span style="font-family:arial\;"><span style="font-size:16px\;">Zebulon Chamber is hosting the annual Community Calendar Planning Session for Zebulon Chamber Nonprofit Roundtable members on Thursday\, August 29\, 2024\, from 4:30 PM to 6:00 PM. Civic organizations sponsoring community-wide events are encouraged to participate.<br />\n<br />\nThe purpose of this session is for representatives from civic organizations\, churches\, and the Town to meet:</span></span>\n<ul>\n	<li><span style="font-family:arial\;"><span style="font-size:16px\;">to facilitate dialogue and relationships among these organizations for a stronger Zebulon\,</span></span></li>\n	<li><span style="font-family:arial\;"><span style="font-size:16px\;">&nbsp\;to share and discuss their organization&rsquo\;s plans for community-wide events for September 2024&nbsp\;through Summer 2025</span></span></li>\n	<li><span style="font-family:arial\;"><span style="font-size:16px\;">to consider how organizations sponsoring events around the same commemoration or celebration may complement each other&rsquo\;s efforts\, and</span></span></li>\n	<li><span style="font-family:arial\;"><span style="font-size:16px\;">to build a community calendar through the Zebulon Chamber&rsquo\;s website for all residents and potential residents to view and follow events throughout the year.</span></span></li>\n</ul>\n<span style="font-family:arial\;"> <span style="font-size:16px\;"><span background-color:="" style="color: rgb(51\, 51\, 51)\; font-family: sans-serif\, Arial\, Verdana\, " trebuchet="">Free for Zebulon Chamber Nonprofit Roundtable members. The favor of registration is requested so we may plan seating and refreshments.</span></span></span>
LOCATION:
UID:e.1168.7955
SEQUENCE:3
DTSTAMP:20260421T172015Z
URL:https://business.zebulonchamber.org/events/details/community-calendar-planning_zebulon-chamber-nonprofit-roundtable-7955
END:VEVENT

END:VCALENDAR
