BEGIN:VCALENDAR
VERSION:2.0
PRODID:-//ChamberMaster//Event Calendar 2.0//EN
METHOD:PUBLISH
X-PUBLISHED-TTL:P3D
REFRESH-INTERVAL:P3D
CALSCALE:GREGORIAN
BEGIN:VEVENT
DTSTART:20250215T193000Z
DTEND:20250215T203000Z
X-MICROSOFT-CDO-ALLDAYEVENT:FALSE
SUMMARY:Day in the Life of an Illustrator Featuring Dare Coulter
DESCRIPTION:Day in the Life of an Illustrator: Featuring Dare Coulter  \n\n\n\nJoin us for an inspiring afternoon with Dare Coulter\, an award-winning sculptor\, artist\, muralist\, and the proud recipient of the 2024 Coretta Scott King Illustrator Award. Discover the magic behind her creative process as she shares insights into her day-to-day life as an illustrator\, sculptor\, and muralist.\n\n\n\n  Date: February 15\, 2025\n\n  Time: 2:30 PM - 3:30 PM\n\n  Location: Zebulon Community Library\, 1000 Dogwood Drive\, Zebulon\, NC 27597\n\n  Audience: All Ages\n\n  Cost: FREE (Registration Requested)
X-ALT-DESC;FMTTYPE=text/html:<span style="font-size:16px\;"><span style="font-family:arial\;"><strong>&#127912\; Day in the Life of an Illustrator: Featuring Dare Coulter &#127912\;</strong><br />\n<br />\nJoin us for an inspiring afternoon with <strong>Dare Coulter</strong>\, an award-winning sculptor\, artist\, muralist\, and the proud recipient of the <strong>2024 Coretta Scott King Illustrator Award</strong>. Discover the magic behind her creative process as she shares insights into her day-to-day life as an illustrator\, sculptor\, and muralist.<br />\n<br />\n&#128197\; <strong>Date:</strong> February 15\, 2025<br />\n&#9200\; <strong>Time:</strong> 2:30 PM - 3:30 PM<br />\n&#128205\; <strong>Location:</strong> Zebulon Community Library\, 1000 Dogwood Drive\, Zebulon\, NC 27597<br />\n&#127919\; <strong>Audience:</strong> All Ages<br />\n&#128178\; <strong>Cost:</strong> FREE (Registration Requested)</span></span><br />\n<br />\n<br />\n&nbsp\;
LOCATION:Zebulon Community Library
UID:e.1168.8681
SEQUENCE:3
DTSTAMP:20260422T125727Z
URL:https://business.zebulonchamber.org/events/details/day-in-the-life-of-an-illustrator-featuring-dare-coulter-8681
END:VEVENT

END:VCALENDAR
