BEGIN:VCALENDAR
VERSION:2.0
PRODID:-//ChamberMaster//Event Calendar 2.0//EN
METHOD:PUBLISH
X-PUBLISHED-TTL:P3D
REFRESH-INTERVAL:P3D
CALSCALE:GREGORIAN
BEGIN:VEVENT
DTSTART:20230323T150000Z
DTEND:20230323T173000Z
X-MICROSOFT-CDO-ALLDAYEVENT:FALSE
SUMMARY:Diamond Jubilee: Zebulon Chamber's 75th Anniversary Luncheon
DESCRIPTION:Guess who turned 75 in 2022? Zebulon Chamber!\n\n \n\nThis milestone will be celebrated -- just a few months belated -- with the renewal of the Zebulon Chamber Annual Celebration.\n\n \n\nThursday\, March 23\, 2023\n\n11:00 AM to 1:30 PM\n\n\n\nEast Wake Academy\n\n821 Charter School Way\n\nZebulon\, NC\n\n \n\nAmong other community and business awards\, The William E. Parrish Citizen of the Year Award will once again be presented.\n\n\n\nThose interested in sponsoring this celebration may view sponsorship opportunities Click Here and  contact Executive Director John Saffold at jsaffold@zebulonchamber.org.
X-ALT-DESC;FMTTYPE=text/html:<div style="color: rgb(26\, 26\, 26)\; font-family: Lato\, sans-serif\; font-size: 16px\;"><span style="font-size:16px\;"><span style="font-family:arial\;">Guess who turned 75 in 2022? Zebulon Chamber!</span></span></div>\n\n<div style="color: rgb(26\, 26\, 26)\; font-family: Lato\, sans-serif\; font-size: 16px\;">&nbsp\;</div>\n\n<div align="justify" style="color: rgb(26\, 26\, 26)\; font-family: Lato\, sans-serif\; font-size: 16px\; text-align: justify\;"><span style="font-size:16px\;"><span style="font-family:arial\;">This milestone will be celebrated -- just a few months belated -- with the&nbsp\;renewal of the Zebulon Chamber Annual Celebration.</span></span></div>\n\n<div style="color: rgb(26\, 26\, 26)\; font-family: Lato\, sans-serif\; font-size: 16px\;">&nbsp\;</div>\n\n<div align="center" style="color: rgb(26\, 26\, 26)\; font-family: Lato\, sans-serif\; font-size: 16px\; text-align: center\;"><span style="font-size:16px\;"><span style="font-family:arial\;">Thursday\, March 23\, 2023</span></span></div>\n\n<div align="center" style="color: rgb(26\, 26\, 26)\; font-family: Lato\, sans-serif\; font-size: 16px\; text-align: center\;"><span style="font-size:16px\;"><span style="font-family:arial\;">11:00 AM to 1:30 PM</span></span></div>\n\n<div align="center" style="color: rgb(26\, 26\, 26)\; font-family: Lato\, sans-serif\; font-size: 16px\; text-align: center\;"><br />\n<span style="font-size:16px\;"><span style="font-family:arial\;">East Wake Academy<br />\n821 Charter School Way<br />\nZebulon\, NC</span></span></div>\n\n<div style="color: rgb(26\, 26\, 26)\; font-family: Lato\, sans-serif\; font-size: 16px\;">&nbsp\;</div>\n\n<div align="justify" style="color: rgb(26\, 26\, 26)\; font-family: Lato\, sans-serif\; font-size: 16px\; text-align: justify\;"><span style="font-size:16px\;"><span style="font-family:arial\;"><span style="color:#1A1A1A\;">Among other community and business awards\, The William E. Parrish Citizen of the Year Award will once again be presented.<br />\n<br />\nThose interested in sponsoring this celebration may view sponsorship opportunities&nbsp\;</span><em><strong><span style="color:#1A1A1A\;"><a href="https://chambermaster.blob.core.windows.net/userfiles/UserFiles/chambers/1168/File/Events/Annual_Meeting_2023/SponsorshipLevels_75thAnniversaryLuncheon_2023March23.pdf">Click Here</a></span></strong></em><span style="color:#1A1A1A\;"> and&nbsp\;&nbsp\;contact Executive Director John Saffold at <a href="mailto:jsaffold@zebulonchamber.org">jsaffold@zebulonchamber.org</a>.</span></span></span><br />\n&nbsp\;</div>\n
LOCATION:
UID:e.1168.7179
SEQUENCE:3
DTSTAMP:20260422T154104Z
URL:https://business.zebulonchamber.org/events/details/diamond-jubilee-zebulon-chamber-s-75th-anniversary-luncheon-7179
END:VEVENT

END:VCALENDAR
