BEGIN:VCALENDAR
VERSION:2.0
PRODID:-//ChamberMaster//Event Calendar 2.0//EN
METHOD:PUBLISH
X-PUBLISHED-TTL:P3D
REFRESH-INTERVAL:P3D
CALSCALE:GREGORIAN
BEGIN:VEVENT
DTSTART:20230425T120000Z
DTEND:20230425T141500Z
X-MICROSOFT-CDO-ALLDAYEVENT:FALSE
SUMMARY:Digital Marketing Bootcamp
DESCRIPTION:Did you miss our last Digital Marketing Bootcamp host by NC State's Small Business Technology & Development Center? If so\, no worries! You'll have another opportunity to take steps toward building an actionable digital marketing plan that won't break the bank or your time. Join us on Tuesday\, April 25 at 8 AM for a 2 hour workshop to dive deeper into how to choose a digital platform that best suits your business goals\, meets your budget\, and connects you with your best customers. This will be an interactive workshop where you'll walk away with a plan so you won't want to miss it. See you soon!\n\n\n\nKatrece Boyd\, General Business Counselor with the Small Business Technology and Development Center at NC State\, will be leading the workshop.\n\n \n\nIn support of our growing small business community\, Zebulon Chamber is privileged to produce Digital Marketing Bootcamp as a part of Money\, Market\, & Management Small Business Series presented by Benchmark Community Bank.\n\n\n\nTuesday\, April 25\, 2023\n\n8:00 AM to 8:15 AM Networking\n\n8:15 AM to 10:15 AM Workshop\n\n\n\nHosted at Zebulon Chamber of Commerce\, 815 N Arendell Ave\, Zebulon\n\n\n\nFee covered for Chamber members in your annual Chamber membership investment & by Benchmark Community Bank's generous sponsorship\n\n$15 for non-Chamber members\n\n\n\nBecause of space\, seating limited to 12 guests.\n\n\n\nCan't wait to see you there!
X-ALT-DESC;FMTTYPE=text/html:<span style="font-size:14px\;"><span style="font-family:arial\;">Did you miss our last Digital Marketing Bootcamp host by NC State&#39\;s Small Business Technology &amp\; Development Center? If so\, no worries! You&#39\;ll have another opportunity to take steps toward building an actionable digital marketing plan that won&#39\;t break the bank or your time. Join us on Tuesday\, April 25 at 8 AM for a 2 hour workshop to dive deeper into how to choose a digital platform that best suits your business goals\, meets your budget\, and connects you with your best customers. This will be an interactive workshop where you&#39\;ll walk away with a plan so you won&#39\;t want to miss it. See you soon!<br />\n<br />\n<strong>Katrece Boyd</strong>\, General Business Counselor with the Small Business Technology and Development Center at NC State\, will be leading the workshop.<br />\n&nbsp\;<br />\nIn support of our growing small business community\, Zebulon Chamber is privileged to produce Digital Marketing Bootcamp as a part of Money\, Market\, &amp\; Management Small Business Series presented by <a href="https://www.bcbonline.com/home/home">Benchmark Community Bank</a>.<br />\n<br />\nTuesday\, April 25\, 2023<br />\n8:00 AM to 8:15 AM Networking<br />\n8:15 AM to 10:15 AM Workshop<br />\n<br />\nHosted at Zebulon Chamber of Commerce\, 815 N Arendell Ave\, Zebulon<br />\n<br />\nFee covered for Chamber members in your annual Chamber membership investment &amp\; by Benchmark Community Bank&#39\;s generous sponsorship<br />\n$15 for non-Chamber members<br />\n<br />\nBecause of space\, seating limited to 12 guests.<br />\n<br />\n<strong>Can&#39\;t wait to see you there!</strong></span></span>
LOCATION:
UID:e.1168.7556
SEQUENCE:3
DTSTAMP:20260422T122929Z
URL:https://business.zebulonchamber.org/events/details/digital-marketing-bootcamp-04-25-2023-7556
END:VEVENT

END:VCALENDAR
