BEGIN:VCALENDAR
VERSION:2.0
PRODID:-//ChamberMaster//Event Calendar 2.0//EN
METHOD:PUBLISH
X-PUBLISHED-TTL:P3D
REFRESH-INTERVAL:P3D
CALSCALE:GREGORIAN
BEGIN:VEVENT
DTSTART:20230302T133000Z
DTEND:20230302T150000Z
X-MICROSOFT-CDO-ALLDAYEVENT:FALSE
SUMMARY:Digital Marketing Bootcamp
DESCRIPTION:Are you feeling lost with how to build a solid digital marketing strategy for your business? Does the term "digital marketing" leave you feeling perplexed and even overwhelmed? If so\, please join our 1-hour Digital Marketing Bootcamp hosted by the SBTDC's Digital Shop. During this one-hour workshop you'll discover the most important aspects of digital marketing for your business\, at this present moment\, with a cost that is suitable for your specific budget. We'll share some basic digital marketing concepts and how to identify what path is most effective for where you currently reside in your journey. \n\n\n\nKatrece Boyd\, General Business Counselor with the Small Business Technology and Development Center at NC State will be our guest presenter.\n\n \n\nIn support of our growing small business community\, Zebulon Chamber is privileged to produce Digital Marketing Bootcamp as a part of Money\, Market\, & Management Small Business Series presented by Benchmark Community Bank.\n\n\n\nThursday\, March 2\, 2023\n\n8:30 AM to 9:00 AM Networking\n\n9:00 AM to 10:00 AM Presentation & Discussion\n\n\n\nHosted at Zebulon Chamber of Commerce\, 815 N Arendell Ave\, Zebulon\n\n\n\nFee covered for Chamber members in your annual Chamber membership investment & by Benchmark Community Bank's generous sponsorship\n\n$15 for non-Chamber members\n\n\n\nBecause of space\, seating limited to 15 guests.\n\n\n\nCan't wait to see you there!
X-ALT-DESC;FMTTYPE=text/html:Are you feeling lost with how to build a solid digital marketing strategy for your business? Does the term &quot\;digital marketing&quot\; leave you feeling perplexed and even overwhelmed? If so\, please join our 1-hour Digital Marketing Bootcamp hosted by the SBTDC&#39\;s&nbsp\;Digital Shop. During this one-hour workshop you&#39\;ll discover&nbsp\;the most important aspects of digital marketing for your business\, at this present moment\, with a cost that is suitable for your specific budget. We&#39\;ll share some basic digital marketing concepts and how to identify what path is most effective for where you currently reside in your journey.&nbsp\;<br />\n<br />\nKatrece Boyd\, General Business Counselor with the Small Business Technology and Development Center at NC State will be our guest presenter.<br />\n&nbsp\;<br />\nIn support of our growing small business community\, Zebulon Chamber is privileged to produce Digital Marketing Bootcamp as a part of Money\, Market\, &amp\; Management Small Business Series presented by <a href="https://www.bcbonline.com/home/home">Benchmark Community Bank</a>.<br />\n<br />\nThursday\, March 2\, 2023<br />\n8:30 AM to 9:00&nbsp\;AM Networking<br />\n9:00 AM to 10:00 AM Presentation &amp\; Discussion<br />\n<br />\nHosted at Zebulon Chamber of Commerce\, 815 N Arendell Ave\, Zebulon<br />\n<br />\nFee covered for Chamber members in your annual Chamber membership investment &amp\; by Benchmark Community Bank&#39\;s generous sponsorship<br />\n$15 for non-Chamber members<br />\n<br />\nBecause of space\, seating limited to 15 guests.<br />\n<br />\n<strong><span style="font-size:16px\;"><span style="font-family:arial\;">Can&#39\;t wait to see you there!</span></span></strong>
LOCATION:
UID:e.1168.7551
SEQUENCE:3
DTSTAMP:20260422T152945Z
URL:https://business.zebulonchamber.org/events/details/digital-marketing-bootcamp-7551
END:VEVENT

END:VCALENDAR
