BEGIN:VCALENDAR
VERSION:2.0
PRODID:-//ChamberMaster//Event Calendar 2.0//EN
METHOD:PUBLISH
X-PUBLISHED-TTL:P3D
REFRESH-INTERVAL:P3D
CALSCALE:GREGORIAN
BEGIN:VEVENT
DTSTART:20230923T140000Z
DTEND:20230923T140000Z
X-MICROSOFT-CDO-ALLDAYEVENT:FALSE
SUMMARY:Downtown Historic Walking Tour
DESCRIPTION:Come take a leisurely stroll through downtown Zebulon and learn about our town's early history\, formation and settlers. Preservation Zebulon presents an opportunity for the area residents to participate in Zebulon's popular walking tours. We are beginning these tours again after a hiatus due to COVID. Our Fall Tour is scheduled for Saturday\, Sept. 23 at 10 a.m.  Tours will include business and residential areas and cover 1.5 miles. Please wear comfortable walking shoes. Please note\, tours will not include the insides of any individual homes or businesses. Tours begin at the corner of E. Horton Street and Arendell Avenue adjacent to Tatum & Atkinson LLC.\n\n\n\nTours start promptly and will be led by Preservation Zebulon members. Suggested donation for the tour is $5 per person\, no charge for children under age 8. In case of rain\, the walking tour will be held on Sunday Sept. 24 at 1 PM\n\n\n\nEmail Preservation Zebulon for more information: Marybeth@preservationzebulon.org
X-ALT-DESC;FMTTYPE=text/html:<span style="font-size:14px\;"><span style="font-family:arial\;">Come take a leisurely stroll through downtown Zebulon and learn about our town&#39\;s early history\, formation and settlers. Preservation Zebulon presents an opportunity for the area residents to participate in Zebulon&rsquo\;s popular walking tours. We are beginning these tours again after a hiatus due to COVID. Our Fall Tour is scheduled for Saturday\, Sept. 23 at 10 a.m.&nbsp\; Tours will include business and residential areas and cover 1.5 miles. Please wear comfortable walking shoes. Please note\, tours will not include the insides of any individual homes or businesses. Tours begin at the corner of E. Horton Street and Arendell Avenue adjacent to Tatum &amp\; Atkinson LLC.<br />\n<br />\nTours start promptly and will be led by Preservation Zebulon members. Suggested donation for the tour is $5 per person\, no charge for children under age 8. In case of rain\, the walking tour will be held on Sunday Sept. 24 at 1 PM</span></span><br />\n<br />\nEmail Preservation Zebulon for more information:&nbsp\;<a href="mailto:Marybeth@preservationzebulon.org?subject=Information%3A%20Downtown%20Historic%20Walking%20Tour">Marybeth@preservationzebulon.org</a>
LOCATION:
UID:e.1168.7625
SEQUENCE:3
DTSTAMP:20260421T150213Z
URL:https://business.zebulonchamber.org/events/details/downtown-historic-walking-tour-7625
END:VEVENT

END:VCALENDAR
