BEGIN:VCALENDAR
VERSION:2.0
PRODID:-//ChamberMaster//Event Calendar 2.0//EN
METHOD:PUBLISH
X-PUBLISHED-TTL:P3D
REFRESH-INTERVAL:P3D
CALSCALE:GREGORIAN
BEGIN:VEVENT
DTSTART:20240208T210000Z
DTEND:20240208T220000Z
X-MICROSOFT-CDO-ALLDAYEVENT:FALSE
SUMMARY:Eastern Wake Business Alliance Meeting
DESCRIPTION:Mark your calendars for the Eastern Wake Business Alliance Meeting and be a part of the festivities as we celebrate Career Technical Education (CTE) Month.\n\n \n\nEastern Wake Business Alliance Meeting\n\nDate: Thursday\, February 8\, 2024\n\nTime: 4:00 PM - 5:00 PM\n\nLocation: Zebulon GT Magnet Middle School Media Center\n\n \n\n\nCome and learn from our CTE staff & students about all the cool things that are happening at Zebulon Middle and East Wake!\n\n \n\nCome see a Zebulon Commissioner present the CTE & FCCLA proclamation to our students! \n\n \n\nCome share ideas to get more businesses to join our upcoming college/career/military fairs!\n\n \n\nCome and brainstorm ways to get more local businesses to take on a high school apprentice /intern!\n\n \n\nOur students -- the next generation of business and community leaders -- need you!\n\n \n\nPlease stay after 5 and network as we roll right into the Zebulon Chamber of Commerce After Hours Event!\n\n \n\n\nZebulon Chamber Business After Hours Hosted by Zebulon GT Magnet Middle School\n\nDate: Thursday\, February 8\, 2024\n\nTime: 5:00 PM - 6:30 PM\n\nLocation: Zebulon GT Magnet Middle School Media Center\n\n\n \n\nYou may win a door prize\; you may make a new connection\; you may impact the life of local student by just being you!
X-ALT-DESC;FMTTYPE=text/html:<div class="x_elementToProof" style="border: 0px\; font-variant-numeric: inherit\; font-variant-east-asian: inherit\; font-variant-alternates: inherit\; font-variant-position: inherit\; font-stretch: inherit\; line-height: inherit\; font-optical-sizing: inherit\; font-kerning: inherit\; font-feature-settings: inherit\; font-variation-settings: inherit\; margin: 0px\; padding: 0px\; vertical-align: baseline\;">\n<div style=""><strong><span style="font-size:20px\;"><span style="font-family:arial\;"><font color="#000000">Mark your calendars for the&nbsp\;Eastern Wake Business Alliance Meeting&nbsp\;and b</font><span style="color: rgb(0\, 0\, 0) !important\;">e a part of the festivities as we celebrate&nbsp\;Career Technical Education (CTE) Month.</span></span></span></strong></div>\n\n<div style="color: rgb(0\, 0\, 0) !important\; font-family: Aptos\, Aptos_EmbeddedFont\, Aptos_MSFontService\, Calibri\, Helvetica\, sans-serif\; font-size: 12pt\;">&nbsp\;</div>\n\n<div style="color: rgb(0\, 0\, 0) !important\; font-family: Aptos\, Aptos_EmbeddedFont\, Aptos_MSFontService\, Calibri\, Helvetica\, sans-serif\; font-size: 12pt\;"><strong><span style="font-size:14px\;"><span style="font-family:arial\;">Eastern Wake Business Alliance Meeting</span></span></strong></div>\n\n<div style="color: rgb(0\, 0\, 0) !important\; font-family: Aptos\, Aptos_EmbeddedFont\, Aptos_MSFontService\, Calibri\, Helvetica\, sans-serif\; font-size: 12pt\;"><span style="font-size:14px\;"><span style="font-family:arial\;">Date: Thursday\, February 8\, 2024</span></span></div>\n\n<div style="color: rgb(0\, 0\, 0) !important\; font-family: Aptos\, Aptos_EmbeddedFont\, Aptos_MSFontService\, Calibri\, Helvetica\, sans-serif\; font-size: 12pt\;"><span style="font-size:14px\;"><span style="font-family:arial\;">Time: 4:00 PM - 5:00 PM</span></span></div>\n\n<div style="color: rgb(0\, 0\, 0) !important\; font-family: Aptos\, Aptos_EmbeddedFont\, Aptos_MSFontService\, Calibri\, Helvetica\, sans-serif\; font-size: 12pt\;"><span style="font-size:14px\;"><span style="font-family:arial\;">Location: Zebulon GT Magnet Middle School Media Center</span></span></div>\n\n<div style="color: rgb(0\, 0\, 0) !important\; font-family: Aptos\, Aptos_EmbeddedFont\, Aptos_MSFontService\, Calibri\, Helvetica\, sans-serif\; font-size: 12pt\;">&nbsp\;</div>\n\n<div style="color: rgb(0\, 0\, 0) !important\; font-family: Aptos\, Aptos_EmbeddedFont\, Aptos_MSFontService\, Calibri\, Helvetica\, sans-serif\; font-size: 12pt\;">\n<div style="border:0px\;font-variant-numeric:inherit\;font-variant-east-asian:inherit\;font-variant-alternates:inherit\;font-variant-position:inherit\;font-stretch:inherit\;font-size:12pt\;line-height:inherit\;font-family:Aptos\, Aptos_EmbeddedFont\, Aptos_MSFontService\, Calibri\, Helvetica\, sans-serif\;font-optical-sizing:inherit\;font-kerning:inherit\;font-feature-settings:inherit\;font-variation-settings:inherit\;padding:0px\;vertical-align:baseline\;color:rgb(0\, 0\, 0) !important\;"><span style="font-size:14px\;"><span style="font-family:arial\;">Come and learn from our CTE staff &amp\; students about all the cool things that are happening at Zebulon Middle and East Wake!</span></span></div>\n\n<div style="border:0px\;font-variant-numeric:inherit\;font-variant-east-asian:inherit\;font-variant-alternates:inherit\;font-variant-position:inherit\;font-stretch:inherit\;font-size:12pt\;line-height:inherit\;font-family:Aptos\, Aptos_EmbeddedFont\, Aptos_MSFontService\, Calibri\, Helvetica\, sans-serif\;font-optical-sizing:inherit\;font-kerning:inherit\;font-feature-settings:inherit\;font-variation-settings:inherit\;padding:0px\;vertical-align:baseline\;color:rgb(0\, 0\, 0) !important\;">&nbsp\;</div>\n\n<div style="border:0px\;font-variant-numeric:inherit\;font-variant-east-asian:inherit\;font-variant-alternates:inherit\;font-variant-position:inherit\;font-stretch:inherit\;font-size:12pt\;line-height:inherit\;font-family:Aptos\, Aptos_EmbeddedFont\, Aptos_MSFontService\, Calibri\, Helvetica\, sans-serif\;font-optical-sizing:inherit\;font-kerning:inherit\;font-feature-settings:inherit\;font-variation-settings:inherit\;padding:0px\;vertical-align:baseline\;color:rgb(0\, 0\, 0) !important\;"><span style="font-size:14px\;"><span style="font-family:arial\;">Come see a Zebulon Commissioner present the CTE &amp\; FCCLA proclamation to our students!&nbsp\;</span></span></div>\n\n<div style="border:0px\;font-variant-numeric:inherit\;font-variant-east-asian:inherit\;font-variant-alternates:inherit\;font-variant-position:inherit\;font-stretch:inherit\;font-size:12pt\;line-height:inherit\;font-family:Aptos\, Aptos_EmbeddedFont\, Aptos_MSFontService\, Calibri\, Helvetica\, sans-serif\;font-optical-sizing:inherit\;font-kerning:inherit\;font-feature-settings:inherit\;font-variation-settings:inherit\;padding:0px\;vertical-align:baseline\;color:rgb(0\, 0\, 0) !important\;">&nbsp\;</div>\n\n<div style="border:0px\;font-variant-numeric:inherit\;font-variant-east-asian:inherit\;font-variant-alternates:inherit\;font-variant-position:inherit\;font-stretch:inherit\;font-size:12pt\;line-height:inherit\;font-family:Aptos\, Aptos_EmbeddedFont\, Aptos_MSFontService\, Calibri\, Helvetica\, sans-serif\;font-optical-sizing:inherit\;font-kerning:inherit\;font-feature-settings:inherit\;font-variation-settings:inherit\;padding:0px\;vertical-align:baseline\;color:rgb(0\, 0\, 0) !important\;"><span style="font-size:14px\;"><span style="font-family:arial\;">Come share ideas to get more businesses to join our upcoming college/career/military fairs!</span></span></div>\n\n<div style="border:0px\;font-variant-numeric:inherit\;font-variant-east-asian:inherit\;font-variant-alternates:inherit\;font-variant-position:inherit\;font-stretch:inherit\;font-size:12pt\;line-height:inherit\;font-family:Aptos\, Aptos_EmbeddedFont\, Aptos_MSFontService\, Calibri\, Helvetica\, sans-serif\;font-optical-sizing:inherit\;font-kerning:inherit\;font-feature-settings:inherit\;font-variation-settings:inherit\;padding:0px\;vertical-align:baseline\;color:rgb(0\, 0\, 0) !important\;">&nbsp\;</div>\n\n<div style="border:0px\;font-variant-numeric:inherit\;font-variant-east-asian:inherit\;font-variant-alternates:inherit\;font-variant-position:inherit\;font-stretch:inherit\;font-size:12pt\;line-height:inherit\;font-family:Aptos\, Aptos_EmbeddedFont\, Aptos_MSFontService\, Calibri\, Helvetica\, sans-serif\;font-optical-sizing:inherit\;font-kerning:inherit\;font-feature-settings:inherit\;font-variation-settings:inherit\;padding:0px\;vertical-align:baseline\;color:rgb(0\, 0\, 0) !important\;"><span style="font-size:14px\;"><span style="font-family:arial\;">Come and brainstorm ways to get more local businesses to take on a high school apprentice /intern!</span></span></div>\n\n<div style="border:0px\;font-variant-numeric:inherit\;font-variant-east-asian:inherit\;font-variant-alternates:inherit\;font-variant-position:inherit\;font-stretch:inherit\;font-size:12pt\;line-height:inherit\;font-family:Aptos\, Aptos_EmbeddedFont\, Aptos_MSFontService\, Calibri\, Helvetica\, sans-serif\;font-optical-sizing:inherit\;font-kerning:inherit\;font-feature-settings:inherit\;font-variation-settings:inherit\;padding:0px\;vertical-align:baseline\;color:rgb(0\, 0\, 0) !important\;">&nbsp\;</div>\n\n<div style="border:0px\;font-variant-numeric:inherit\;font-variant-east-asian:inherit\;font-variant-alternates:inherit\;font-variant-position:inherit\;font-stretch:inherit\;font-size:12pt\;line-height:inherit\;font-family:Aptos\, Aptos_EmbeddedFont\, Aptos_MSFontService\, Calibri\, Helvetica\, sans-serif\;font-optical-sizing:inherit\;font-kerning:inherit\;font-feature-settings:inherit\;font-variation-settings:inherit\;padding:0px\;vertical-align:baseline\;color:rgb(0\, 0\, 0) !important\;"><strong><span style="font-size:18px\;"><span style="font-family:arial\;">Our students -- the next generation of business and community leaders -- need you!</span></span></strong></div>\n\n<div style="border:0px\;font-variant-numeric:inherit\;font-variant-east-asian:inherit\;font-variant-alternates:inherit\;font-variant-position:inherit\;font-stretch:inherit\;font-size:12pt\;line-height:inherit\;font-family:Aptos\, Aptos_EmbeddedFont\, Aptos_MSFontService\, Calibri\, Helvetica\, sans-serif\;font-optical-sizing:inherit\;font-kerning:inherit\;font-feature-settings:inherit\;font-variation-settings:inherit\;padding:0px\;vertical-align:baseline\;color:rgb(0\, 0\, 0) !important\;">&nbsp\;</div>\n\n<div style="border:0px\;font-variant-numeric:inherit\;font-variant-east-asian:inherit\;font-variant-alternates:inherit\;font-variant-position:inherit\;font-stretch:inherit\;font-size:12pt\;line-height:inherit\;font-family:Aptos\, Aptos_EmbeddedFont\, Aptos_MSFontService\, Calibri\, Helvetica\, sans-serif\;font-optical-sizing:inherit\;font-kerning:inherit\;font-feature-settings:inherit\;font-variation-settings:inherit\;padding:0px\;vertical-align:baseline\;color:rgb(0\, 0\, 0) !important\;"><span style="font-size:14px\;"><span style="font-family:arial\;">Please stay after 5 and network as we roll right into the Zebulon Chamber of Commerce After Hours Event!</span></span><br />\n&nbsp\;</div>\n\n<div style="border:0px\;font-variant-numeric:inherit\;font-variant-east-asian:inherit\;font-variant-alternates:inherit\;font-variant-position:inherit\;font-stretch:inherit\;font-size:12pt\;line-height:inherit\;font-family:Aptos\, Aptos_EmbeddedFont\, Aptos_MSFontService\, Calibri\, Helvetica\, sans-serif\;font-optical-sizing:inherit\;font-kerning:inherit\;font-feature-settings:inherit\;font-variation-settings:inherit\;padding:0px\;vertical-align:baseline\;color:rgb(0\, 0\, 0) !important\;">\n<div style="font-family:Aptos\, Aptos_EmbeddedFont\, Aptos_MSFontService\, Calibri\, Helvetica\, sans-serif\;font-size:12pt\;color:rgb(0\, 0\, 0) !important\;"><strong><span style="font-size:14px\;"><span style="font-family:arial\;">Zebulon Chamber Business After Hours Hosted by Zebulon GT Magnet Middle School</span></span></strong></div>\n\n<div style="font-family:Aptos\, Aptos_EmbeddedFont\, Aptos_MSFontService\, Calibri\, Helvetica\, sans-serif\;font-size:12pt\;color:rgb(0\, 0\, 0) !important\;"><span style="font-size:14px\;"><span style="font-family:arial\;">Date:&nbsp\;Thursday\, February 8\, 2024</span></span></div>\n\n<div style="font-family:Aptos\, Aptos_EmbeddedFont\, Aptos_MSFontService\, Calibri\, Helvetica\, sans-serif\;font-size:12pt\;color:rgb(0\, 0\, 0) !important\;"><span style="font-size:14px\;"><span style="font-family:arial\;">Time: 5:00 PM - 6:30 PM</span></span></div>\n\n<div style="font-family:Aptos\, Aptos_EmbeddedFont\, Aptos_MSFontService\, Calibri\, Helvetica\, sans-serif\;font-size:12pt\;color:rgb(0\, 0\, 0) !important\;"><span style="font-size:14px\;"><span style="font-family:arial\;">Location:&nbsp\;Zebulon GT Magnet Middle School Media Center</span></span></div>\n</div>\n\n<div style="border:0px\;font-variant-numeric:inherit\;font-variant-east-asian:inherit\;font-variant-alternates:inherit\;font-variant-position:inherit\;font-stretch:inherit\;font-size:12pt\;line-height:inherit\;font-family:Aptos\, Aptos_EmbeddedFont\, Aptos_MSFontService\, Calibri\, Helvetica\, sans-serif\;font-optical-sizing:inherit\;font-kerning:inherit\;font-feature-settings:inherit\;font-variation-settings:inherit\;padding:0px\;vertical-align:baseline\;color:rgb(0\, 0\, 0) !important\;">&nbsp\;</div>\n\n<div style="border:0px\;font-variant-numeric:inherit\;font-variant-east-asian:inherit\;font-variant-alternates:inherit\;font-variant-position:inherit\;font-stretch:inherit\;font-size:12pt\;line-height:inherit\;font-family:Aptos\, Aptos_EmbeddedFont\, Aptos_MSFontService\, Calibri\, Helvetica\, sans-serif\;font-optical-sizing:inherit\;font-kerning:inherit\;font-feature-settings:inherit\;font-variation-settings:inherit\;padding:0px\;vertical-align:baseline\;color:rgb(0\, 0\, 0) !important\;"><span style="font-size:14px\;"><span style="font-family:arial\;">You may win a door prize\; you may make a new connection\; you may impact the life of local student by just being you!</span></span></div>\n</div>\n</div>\n
LOCATION:
UID:e.1168.7842
SEQUENCE:3
DTSTAMP:20260421T191132Z
URL:https://business.zebulonchamber.org/events/details/eastern-wake-business-alliance-meeting-7842
END:VEVENT

END:VCALENDAR
