BEGIN:VCALENDAR
VERSION:2.0
PRODID:-//ChamberMaster//Event Calendar 2.0//EN
METHOD:PUBLISH
X-PUBLISHED-TTL:P3D
REFRESH-INTERVAL:P3D
CALSCALE:GREGORIAN
BEGIN:VEVENT
DTSTART:20230906T163000Z
DTEND:20230906T213000Z
X-MICROSOFT-CDO-ALLDAYEVENT:FALSE
SUMMARY:ERA Parrish Realty American Red Cross Blood Drive
DESCRIPTION:Wednesday\, Sept 6\, 2023\n\n12:30 PM - 5:30 PM\n\n\n\nRotary Woman's Club\, 405 Sycamore St\, Zebulon\, NC 27597\n\n\n\nTo schedule your lifesaving appointment visit www.redcrossblood.org and enter sponsor code: ERA.
X-ALT-DESC;FMTTYPE=text/html:<span style="font-family:open sans light\,sans-serif\; font-size:16px">Wednesday\, Sept 6\, 2023<br />\n12:30 PM - 5:30 PM<br />\n<br />\nRotary Woman&#39\;s Club\, 405 Sycamore St\, Zebulon\, NC 27597<br />\n<br />\nTo schedule your lifesaving appointment visit www.redcrossblood.org and enter sponsor code: ERA.</span>
LOCATION:
UID:e.1168.7577
SEQUENCE:3
DTSTAMP:20260421T151249Z
URL:https://business.zebulonchamber.org/events/details/era-parrish-realty-american-red-cross-blood-drive-7577
END:VEVENT

END:VCALENDAR
