BEGIN:VCALENDAR
VERSION:2.0
PRODID:-//ChamberMaster//Event Calendar 2.0//EN
METHOD:PUBLISH
X-PUBLISHED-TTL:P3D
REFRESH-INTERVAL:P3D
CALSCALE:GREGORIAN
BEGIN:VEVENT
DTSTART:20240328T043000Z
DTEND:20240328T093000Z
X-MICROSOFT-CDO-ALLDAYEVENT:FALSE
SUMMARY:ERA Parrish Realty Red Cross Blood Drive
DESCRIPTION:ERA Parrish Realty American Red Cross Blood Drive\n\nMarch 28\, 2024\n\nLocation:  Rotary Woman's Club of Zebulon\, 405 Sycamore St\, Zebulon\n\nTime:  12:30 pm to 5:30 pm\n\n\n\nPlease join us to donate blood for the Blood Bank. Every Drop Counts.\n\nMake your appointment at redcrossblood.org or the blood donor app. Sponsor code:  ERA\n\n\n\nhttps://www.redcrossblood.org/give.html/find-drive
X-ALT-DESC;FMTTYPE=text/html:ERA Parrish Realty American Red Cross Blood Drive<br />\nMarch 28\, 2024<br />\nLocation:&nbsp\; Rotary Woman&#39\;s Club of Zebulon\, 405 Sycamore St\, Zebulon<br />\nTime:&nbsp\; 12:30 pm to 5:30 pm<br />\n<br />\nPlease join us to donate blood for the Blood Bank. Every Drop Counts.<br />\nMake your appointment at redcrossblood.org or the blood donor app. Sponsor code:&nbsp\; ERA<br />\n<br />\n<a href="https://www.redcrossblood.org/give.html/find-drive">https://www.redcrossblood.org/give.html/find-drive</a><br />\n&nbsp\;
LOCATION:Rotary Woman's Club of Zebulon\, 405 Sycamore St\, Zebulon
UID:e.1168.7859
SEQUENCE:3
DTSTAMP:20260421T213105Z
URL:https://business.zebulonchamber.org/events/details/era-parrish-realty-red-cross-blood-drive-7859
END:VEVENT

END:VCALENDAR
