BEGIN:VCALENDAR
VERSION:2.0
PRODID:-//ChamberMaster//Event Calendar 2.0//EN
METHOD:PUBLISH
X-PUBLISHED-TTL:P3D
REFRESH-INTERVAL:P3D
CALSCALE:GREGORIAN
BEGIN:VEVENT
DTSTART:20231017T143000Z
DTEND:20231017T160000Z
X-MICROSOFT-CDO-ALLDAYEVENT:FALSE
SUMMARY:Exclusive Tour of Marbles Kids Museum_Zebulon Education Partners
DESCRIPTION:Members of Zebulon Education Partners are Invited to Join Zebulon Chamber for an Exclusive Tour of Marbles Kids Museum with Hardin Engelhardt\, Chief Learning Officer!\n\n\n\n  Date: Tuesday\, October 17th\n\n  Time: 10:30 AM to 12:00 PM\n\n\n\n   Location: Marbles Kids Museum\, 201 E Hargett St.\, Raleigh\, Nc\n\n  Special Guests: Members of Zebulon Education Partners\n\n\n\n  Purpose:\n\nZebulon Education Partners will Discover the Exciting World of Marbles Kids Museum and its Programs for Zebulon's Schools\, Educators\, and Families! Located in the heart of downtown Raleigh\, Marbles Kids Museum is a vibrant hub for learning and fun\, offering a wide range of exhibits\, summer camps\, IMAX movies\, and year-round events for families\, school groups\, and community organizations.\n\n\n\nThis event is an incredible opportunity for Zebulon Education Partners to explore Marbles Kids Museum\, its mission\, and the enriching programs it offers to our community. Don't miss out on this educational and inspiring tour!\n\n\n\nFor More Information\, please contact:\n\n  Email: John D. Saffold\, Executive Director\, Zebulon Chamber\n\n  Phone: 919.269.6320\n\n\n\n\n\nThe purpose of Zebulon Education Partners is to foster collaboration\, share knowledge and resources\, and promote the development of effective strategies to support the growth and success of education in our community. We aim to provide a platform to engage in meaningful dialogue and cultivate partnerships that enhance educational opportunities so that each young person realizes their full potential.
X-ALT-DESC;FMTTYPE=text/html:<span style="font-size:14px\;"><span style="font-family:arial\;">Members of Zebulon Education Partners are Invited to Join Zebulon Chamber for an Exclusive Tour of Marbles Kids Museum with Hardin Engelhardt\, Chief Learning Officer!<br />\n<br />\n&#128197\; Date: Tuesday\, October 17th<br />\n&#128357\; Time: 10:30 AM to 12:00 PM<br />\n<br />\n&#127963\;&#65039\; Location: Marbles Kids Museum\, 201 E Hargett St.\, Raleigh\, Nc<br />\n&#128101\; Special Guests: Members of Zebulon Education Partners<br />\n<br />\n&#127775\; Purpose:<br />\nZebulon Education Partners will Discover the Exciting World of Marbles Kids Museum and its Programs for Zebulon&#39\;s Schools\, Educators\, and Families! Located in the heart of downtown Raleigh\, Marbles Kids Museum is a vibrant hub for learning and fun\, offering a wide range of exhibits\, summer camps\, IMAX movies\, and year-round events for families\, school groups\, and community organizations.<br />\n<br />\nThis event is an incredible opportunity for Zebulon Education Partners to explore Marbles Kids Museum\, its mission\, and the enriching programs it offers to our community. Don&#39\;t miss out on this educational and inspiring tour!<br />\n<br />\nFor More Information\, please contact:<br />\n&#128231\; Email: <a href="mailto:jsaffold@zebulonchamber.org?subject=Information%20on%20Zebulon%20Education%20Partners">John D. Saffold</a>\, Executive Director\, Zebulon Chamber<br />\n&#128222\; Phone: 919.269.6320</span></span><br />\n<br />\n<br />\n<span style="font-size:14px\;"><span style="font-family:arial\;"><strong>The purpose of Zebulon Education Partners is to foster collaboration\, share knowledge and resources\, and promote the development of effective strategies to support the growth and success of education in our community. We aim to provide a platform to engage in meaningful dialogue and cultivate partnerships that enhance educational opportunities so that each young person realizes their full potential.</strong></span></span><br />\n&nbsp\;
LOCATION:
UID:e.1168.7630
SEQUENCE:3
DTSTAMP:20260422T035904Z
URL:https://business.zebulonchamber.org/events/details/exclusive-tour-of-marbles-kids-museum_zebulon-education-partners-7630
END:VEVENT

END:VCALENDAR
