BEGIN:VCALENDAR
VERSION:2.0
PRODID:-//ChamberMaster//Event Calendar 2.0//EN
METHOD:PUBLISH
X-PUBLISHED-TTL:P3D
REFRESH-INTERVAL:P3D
CALSCALE:GREGORIAN
BEGIN:VEVENT
DTSTART;VALUE=DATE:20221008
DTEND;VALUE=DATE:20221009
TRANSP:TRANSPARENT
X-MICROSOFT-CDO-ALLDAYEVENT:TRUE
SUMMARY:Fall Festival at Zebulon United Methodist Church
DESCRIPTION:38th Annual Fall Festival   OCTOBER 8th!\n\nIt's happening!! Fall Festival on October 8th from 10:00 a.m. to 3:00 p.m. \n\nWe will have crafts\, a silent auction\, children's activities\, a plant sale\, a country store\, and drive-through BBQ plates. You can pick up your tickets($12.00 per plate) for the Barbeque at the church office from 9:00 am until 3 pm.
X-ALT-DESC;FMTTYPE=text/html:<strong><span style="font-family:abadi\,sans-serif"><span style="font-size:16.0pt">38<sup>th</sup>&nbsp\;Annual Fall Festival &ndash\; OCTOBER 8<sup>th</sup>!</span></span></strong><br />\n<strong><span style="font-family:abadi\,sans-serif"><span style="font-size:16.0pt">It&rsquo\;s happening!! Fall Festival on&nbsp\;October&nbsp\;8<sup>th</sup>&nbsp\;from 10:00 a.m. to 3:00 p.m.&nbsp\;</span></span></strong><br />\n<span style="font-family:abadi\,sans-serif"><span style="font-size:9pt">We will have crafts\, a silent auction\, children&rsquo\;s activities\, a plant sale\, a country store\, and drive-through BBQ plates. You can pick up your tickets($12.00 per plate) for the Barbeque at the church office from 9:00 am until 3 pm.</span></span>
LOCATION:Zebulon United Methodist Church 121 W. Gannon Ave. Zebulon NC 27597
UID:e.1168.7129
SEQUENCE:3
DTSTAMP:20260424T081820Z
URL:https://business.zebulonchamber.org/events/details/fall-festival-at-zebulon-united-methodist-church-7129
END:VEVENT

END:VCALENDAR
