BEGIN:VCALENDAR
VERSION:2.0
PRODID:-//ChamberMaster//Event Calendar 2.0//EN
METHOD:PUBLISH
X-PUBLISHED-TTL:P3D
REFRESH-INTERVAL:P3D
CALSCALE:GREGORIAN
BEGIN:VEVENT
DTSTART:20240316T030000Z
DTEND:20240315T170000Z
X-MICROSOFT-CDO-ALLDAYEVENT:FALSE
SUMMARY:Fish Fry Friday
DESCRIPTION:This Friday join our Chamber member Wakefield Missionary Baptist Church for their Men's Day Fundraiser event Fish Fry Friday!\n\nEnjoy Hot and Fresh food while supporting the community!
X-ALT-DESC;FMTTYPE=text/html:<span style="font-family:aptos\,sans-serif\;"><span style="font-size:12.0pt\;">This Friday join our Chamber member Wakefield Missionary Baptist Church for their Men&#39\;s Day Fundraiser event Fish Fry Friday!<br />\nEnjoy Hot and Fresh food while supporting the community!</span></span><br />\n&nbsp\;
LOCATION:809 Proctor St\, Zebulon\, NC 27597
UID:e.1168.7863
SEQUENCE:3
DTSTAMP:20260421T201224Z
URL:https://business.zebulonchamber.org/events/details/fish-fry-friday-7863
END:VEVENT

END:VCALENDAR
