BEGIN:VCALENDAR
VERSION:2.0
PRODID:-//ChamberMaster//Event Calendar 2.0//EN
METHOD:PUBLISH
X-PUBLISHED-TTL:P3D
REFRESH-INTERVAL:P3D
CALSCALE:GREGORIAN
BEGIN:VEVENT
DTSTART:20240427T150000Z
DTEND:20240427T190000Z
X-MICROSOFT-CDO-ALLDAYEVENT:FALSE
SUMMARY:Fish Fry Fundraiser @ Zebulon United Methodist Church
DESCRIPTION:Let someone else do the cooking! Fish Fry Fundraiser sponsored by Zebulon United Methodist Men on Saturday\, April 27\, 2024\, from 11:00 AM to 3:00 PM! Enjoy a mouthwatering plate for just $12 and support a worthy cause in the community.
X-ALT-DESC;FMTTYPE=text/html:<span style="font-family:arial\;"><span style="font-size:16px\;">Let someone else do the cooking! Fish Fry Fundraiser sponsored by Zebulon United Methodist Men on Saturday\, April 27\, 2024\, from 11:00 AM to 3:00 PM! Enjoy a mouthwatering plate for just $12 and support a worthy cause in the community.</span></span>
LOCATION:
UID:e.1168.7872
SEQUENCE:3
DTSTAMP:20260421T200734Z
URL:https://business.zebulonchamber.org/events/details/fish-fry-fundraiser-zebulon-united-methodist-church-7872
END:VEVENT

END:VCALENDAR
