BEGIN:VCALENDAR
VERSION:2.0
PRODID:-//ChamberMaster//Event Calendar 2.0//EN
METHOD:PUBLISH
X-PUBLISHED-TTL:P3D
REFRESH-INTERVAL:P3D
CALSCALE:GREGORIAN
BEGIN:VEVENT
DTSTART:20240329T150000Z
DTEND:20240329T230000Z
X-MICROSOFT-CDO-ALLDAYEVENT:FALSE
SUMMARY:Fish Fry Zebulon Shrine Club
DESCRIPTION:The Zebulon Shrine Club will be holding their annual Good Friday Fish Fry  \n\nEach plate includes: Two Pieces of Flounder\, Hush Puppies\, and some of the best Coleslaw around!\n\n\n\n$12 per plate
X-ALT-DESC;FMTTYPE=text/html:<span style="font-size:14px\;"><span style="font-family:arial\;">The Zebulon Shrine Club will be holding their annual Good Friday Fish Fry&nbsp\;&nbsp\;<br />\nEach plate includes:&nbsp\;Two Pieces of Flounder\, Hush Puppies\, and some of the best Coleslaw around!<br />\n<br />\n$12 per plate&nbsp\;&nbsp\;</span></span>
LOCATION:Zebulon Shrine Club 1201 West Gannon Ave Zebulon\, NC
UID:e.1168.7853
SEQUENCE:3
DTSTAMP:20260421T200707Z
URL:https://business.zebulonchamber.org/events/details/fish-fry-zebulon-shrine-club-7853
END:VEVENT

END:VCALENDAR
