BEGIN:VCALENDAR
VERSION:2.0
PRODID:-//ChamberMaster//Event Calendar 2.0//EN
METHOD:PUBLISH
X-PUBLISHED-TTL:P3D
REFRESH-INTERVAL:P3D
CALSCALE:GREGORIAN
BEGIN:VEVENT
DTSTART:20240427T130000Z
DTEND:20240427T160000Z
X-MICROSOFT-CDO-ALLDAYEVENT:FALSE
SUMMARY:Free CPR Class at Zebulon Lions Club
DESCRIPTION:The Zebulon Lions Club and the Zebulon Fire Department are partnering to offer interested citizens the opportunity to learn CPR. Zebulon Fire Chief Wayne Dupree will lead the class that will be held in the Zebulon Lions Annex Room (the room behind the main club building) from 9:00 a.m. to 12:00 noon. The class is free but is limited to a maximum of 10 participants. Anyone interested in taking this class should contact Ms. Ofie McCoy by phone at (661) 345-0933 or by email at ofiemccoy@gmail.com. The Zebulon Lions Club and the Zebulon Fire Department look forward to serving the community in this manner. Knowledge of CPR does save lives and the more who have this knowledge\, the more lives that can be saved!
X-ALT-DESC;FMTTYPE=text/html:The Zebulon Lions Club and the Zebulon Fire Department are partnering to offer interested citizens the opportunity to learn CPR. Zebulon Fire Chief Wayne Dupree will lead the class that will be held in the Zebulon Lions Annex Room (the room behind the main club building) from 9:00 a.m. to 12:00 noon. The class is free but is limited to a maximum of 10 participants. Anyone interested in taking this class should contact Ms. Ofie McCoy by phone at (661) 345-0933 or by email at ofiemccoy@gmail.com. The Zebulon Lions Club and the Zebulon Fire Department look forward to serving the community in this manner. Knowledge of CPR does save lives and the more who have this knowledge\, the more lives that can be saved!
LOCATION:Zebulon Lions Club Annex Room 118 East Lee Street Zebulon NC 27597
UID:e.1168.7866
SEQUENCE:3
DTSTAMP:20260421T200449Z
URL:https://business.zebulonchamber.org/events/details/free-cpr-class-at-zebulon-lions-club-7866
END:VEVENT

END:VCALENDAR
