BEGIN:VCALENDAR
VERSION:2.0
PRODID:-//ChamberMaster//Event Calendar 2.0//EN
METHOD:PUBLISH
X-PUBLISHED-TTL:P3D
REFRESH-INTERVAL:P3D
CALSCALE:GREGORIAN
BEGIN:VEVENT
DTSTART:20230930T130000Z
DTEND:20230930T170000Z
X-MICROSOFT-CDO-ALLDAYEVENT:FALSE
SUMMARY:Free Vision Screening
DESCRIPTION:The Zebulon Lions Club will host a free vision screening on Saturday\, September 30\, from 9:00 am to 1:00 pm at the Zebulon Rotary Club (the Lions Club was already rented by another party on this date) located at 405 West Sycamore Street in Zebulon. Certified Vision Screeners\, using modern vision screening equipment\, will screen children and adults for decreased vision and visual impairments that can be corrected. The primary purpose of the Lions is to eliminate preventable blindness and improve visual health for everyone. Protect your vision! Get screened!
X-ALT-DESC;FMTTYPE=text/html:The Zebulon Lions Club will host a free vision screening on Saturday\, September 30\, from 9:00 am to 1:00 pm at the Zebulon Rotary Club (the Lions Club was already rented by another party on this date) located at 405 West Sycamore Street in Zebulon. Certified Vision Screeners\, using modern vision screening equipment\, will screen children and adults for decreased vision and visual impairments that can be corrected. The primary purpose of the Lions is to eliminate preventable blindness and improve visual health for everyone. Protect your vision! Get screened!
LOCATION:Zebulon Rotary/Womans Club Building - 405 West Sycamore Street in Zebulon
UID:e.1168.7648
SEQUENCE:3
DTSTAMP:20260421T145907Z
URL:https://business.zebulonchamber.org/events/details/free-vision-screening-7648
END:VEVENT

END:VCALENDAR
