BEGIN:VCALENDAR
VERSION:2.0
PRODID:-//ChamberMaster//Event Calendar 2.0//EN
METHOD:PUBLISH
X-PUBLISHED-TTL:P3D
REFRESH-INTERVAL:P3D
CALSCALE:GREGORIAN
BEGIN:VEVENT
DTSTART:20230928T210000Z
DTEND:20230928T223000Z
X-MICROSOFT-CDO-ALLDAYEVENT:FALSE
SUMMARY:Gill Street Community Cookout & Coat Distribution
DESCRIPTION:Coat Distribution Event:\n\nDate: Thursday\, September 28 from\n\nTime: 5:00-6:30PM\n\nLocation: Gill Street Park-600 N Privette St.\n\n\n\nCoats will be distributed at the Gill Street Community Cookout and Coat Drive Distribution Event on Thursday\, September 28th from 5:00-6:30PM.
X-ALT-DESC;FMTTYPE=text/html:<span style="font-family:arial\; font-size:12px">Coat Distribution Event:</span><br />\n<span style="font-family:arial\; font-size:12px">Date: Thursday\, September 28 from</span><br />\n<span style="font-family:arial\; font-size:12px">Time: 5:00-6:30PM</span><br />\n<span style="font-family:arial\; font-size:12px">Location: Gill Street Park-600 N Privette St.<br />\n<br />\nCoats will be distributed at the Gill Street Community Cookout and Coat Drive Distribution Event on Thursday\, September 28th from 5:00-6:30PM.</span>
LOCATION:Gill Street Park-600 N Privette St.
UID:e.1168.7583
SEQUENCE:3
DTSTAMP:20260421T151352Z
URL:https://business.zebulonchamber.org/events/details/gill-street-community-cookout-coat-distribution-7583
END:VEVENT

END:VCALENDAR
